BEGIN:VCALENDAR
VERSION:2.0
PRODID:-//OKCC - ECPv6.15.18//NONSGML v1.0//EN
CALSCALE:GREGORIAN
METHOD:PUBLISH
X-ORIGINAL-URL:https://www.okcc.org
X-WR-CALDESC:Events for OKCC
REFRESH-INTERVAL;VALUE=DURATION:PT1H
X-Robots-Tag:noindex
X-PUBLISHED-TTL:PT1H
BEGIN:VTIMEZONE
TZID:America/Los_Angeles
BEGIN:DAYLIGHT
TZOFFSETFROM:-0800
TZOFFSETTO:-0700
TZNAME:PDT
DTSTART:20210314T100000
END:DAYLIGHT
BEGIN:STANDARD
TZOFFSETFROM:-0700
TZOFFSETTO:-0800
TZNAME:PST
DTSTART:20211107T090000
END:STANDARD
BEGIN:DAYLIGHT
TZOFFSETFROM:-0800
TZOFFSETTO:-0700
TZNAME:PDT
DTSTART:20220313T100000
END:DAYLIGHT
BEGIN:STANDARD
TZOFFSETFROM:-0700
TZOFFSETTO:-0800
TZNAME:PST
DTSTART:20221106T090000
END:STANDARD
BEGIN:DAYLIGHT
TZOFFSETFROM:-0800
TZOFFSETTO:-0700
TZNAME:PDT
DTSTART:20230312T100000
END:DAYLIGHT
BEGIN:STANDARD
TZOFFSETFROM:-0700
TZOFFSETTO:-0800
TZNAME:PST
DTSTART:20231105T090000
END:STANDARD
END:VTIMEZONE
BEGIN:VEVENT
DTSTART;TZID=America/Los_Angeles:20221229T193000
DTEND;TZID=America/Los_Angeles:20221229T210000
DTSTAMP:20260422T024348
CREATED:20220930T080405Z
LAST-MODIFIED:20221209T184011Z
UID:5299-1672342200-1672347600@www.okcc.org
SUMMARY:Thursday Pool Session-12/29/22
DESCRIPTION:Come get your roll on at the Clackamas Aquatic Park! \nInstructor Nathan Watt will be on hand for anyone who needs a little assistance with getting that roll. \nCheck-in starts at 7:00 pm\, boats can go in the water at 7:30 pm. (Please use the side entrance\, not the main doors). \nTickets for members are $10/session\, non-members pay $20. Entry is limited to 25\, so get your ticket while the gettin's good! \nWaivers\, helmets and clean boats are required to enter the pool. A hose will be provided\, waivers can be signed at check-in\, but don't forget that helmet!
URL:https://www.okcc.org/event/thursday-pool-session-12-29-22/
LOCATION:N. Clackamas Aquatic Park\, 7300 SE Harmony Rd\, Milwaukie\, OR\, 97222
CATEGORIES:N. Clackamas Pool Session,Pool Session
ATTACH;FMTTYPE=image/png:https://www.okcc.org/wp-content/uploads/2022/02/ThursdayPool.png
ORGANIZER;CN="OKCC Pool Coordinator":MAILTO:okcc.poolcoordinator@gmail.com
END:VEVENT
END:VCALENDAR