BEGIN:VCALENDAR
VERSION:2.0
PRODID:-//OKCC - ECPv6.15.18//NONSGML v1.0//EN
CALSCALE:GREGORIAN
METHOD:PUBLISH
X-ORIGINAL-URL:https://www.okcc.org
X-WR-CALDESC:Events for OKCC
REFRESH-INTERVAL;VALUE=DURATION:PT1H
X-Robots-Tag:noindex
X-PUBLISHED-TTL:PT1H
BEGIN:VTIMEZONE
TZID:America/Los_Angeles
BEGIN:DAYLIGHT
TZOFFSETFROM:-0800
TZOFFSETTO:-0700
TZNAME:PDT
DTSTART:20220313T100000
END:DAYLIGHT
BEGIN:STANDARD
TZOFFSETFROM:-0700
TZOFFSETTO:-0800
TZNAME:PST
DTSTART:20221106T090000
END:STANDARD
BEGIN:DAYLIGHT
TZOFFSETFROM:-0800
TZOFFSETTO:-0700
TZNAME:PDT
DTSTART:20230312T100000
END:DAYLIGHT
BEGIN:STANDARD
TZOFFSETFROM:-0700
TZOFFSETTO:-0800
TZNAME:PST
DTSTART:20231105T090000
END:STANDARD
BEGIN:DAYLIGHT
TZOFFSETFROM:-0800
TZOFFSETTO:-0700
TZNAME:PDT
DTSTART:20240310T100000
END:DAYLIGHT
BEGIN:STANDARD
TZOFFSETFROM:-0700
TZOFFSETTO:-0800
TZNAME:PST
DTSTART:20241103T090000
END:STANDARD
END:VTIMEZONE
BEGIN:VEVENT
DTSTART;TZID=America/Los_Angeles:20230126T193000
DTEND;TZID=America/Los_Angeles:20230126T210000
DTSTAMP:20260422T011806
CREATED:20221128T033709Z
LAST-MODIFIED:20230225T074148Z
UID:6116-1674761400-1674766800@www.okcc.org
SUMMARY:Play Boating Clinic with Thom Parker
DESCRIPTION:Ever wanted to learn some play boating basics or brush up on those moves? Here's your chance! Join Thom Parker for a special OKCC playboating clinic in the nice warm water of the Clackamas Pool. \n*Playboat required \n\nSpace will be limited to 15 OKCC members only\, tickets will be non-refundable (the standard $10 pool session fee will apply). If you have questions about the clinic\, please contact Thom on Facebook Messenger or contact the OKCC Pool Coordinator at OKKC.poolcoordinator@gmail.com to be put in touch. \n\nPool rules still apply: \n\nBoats must be clean of all debris and sand\nHelmets must be worn at all times while in the pool\, in or out of a boat\nDo not hit the sides of the pool with your boat or cross the rear float-barrier\nYou must have a current signed OKCC waiver on file\n\n 
URL:https://www.okcc.org/event/play-boating-clinic-with-thom-parker/
LOCATION:N. Clackamas Aquatic Park\, 7300 SE Harmony Rd\, Milwaukie\, OR\, 97222
CATEGORIES:Clinic,Pool Session
ATTACH;FMTTYPE=image/png:https://www.okcc.org/wp-content/uploads/2022/02/SpecialSessionPool.png
ORGANIZER;CN="OKCC Pool Coordinator":MAILTO:okcc.poolcoordinator@gmail.com
END:VEVENT
END:VCALENDAR