BEGIN:VCALENDAR
VERSION:2.0
PRODID:-//OKCC - ECPv6.15.18//NONSGML v1.0//EN
CALSCALE:GREGORIAN
METHOD:PUBLISH
X-WR-CALNAME:OKCC
X-ORIGINAL-URL:https://www.okcc.org
X-WR-CALDESC:Events for OKCC
REFRESH-INTERVAL;VALUE=DURATION:PT1H
X-Robots-Tag:noindex
X-PUBLISHED-TTL:PT1H
BEGIN:VTIMEZONE
TZID:America/Los_Angeles
BEGIN:DAYLIGHT
TZOFFSETFROM:-0800
TZOFFSETTO:-0700
TZNAME:PDT
DTSTART:20220313T100000
END:DAYLIGHT
BEGIN:STANDARD
TZOFFSETFROM:-0700
TZOFFSETTO:-0800
TZNAME:PST
DTSTART:20221106T090000
END:STANDARD
BEGIN:DAYLIGHT
TZOFFSETFROM:-0800
TZOFFSETTO:-0700
TZNAME:PDT
DTSTART:20230312T100000
END:DAYLIGHT
BEGIN:STANDARD
TZOFFSETFROM:-0700
TZOFFSETTO:-0800
TZNAME:PST
DTSTART:20231105T090000
END:STANDARD
BEGIN:DAYLIGHT
TZOFFSETFROM:-0800
TZOFFSETTO:-0700
TZNAME:PDT
DTSTART:20240310T100000
END:DAYLIGHT
BEGIN:STANDARD
TZOFFSETFROM:-0700
TZOFFSETTO:-0800
TZNAME:PST
DTSTART:20241103T090000
END:STANDARD
END:VTIMEZONE
BEGIN:VEVENT
DTSTART;TZID=America/Los_Angeles:20230624T080000
DTEND;TZID=America/Los_Angeles:20230625T170000
DTSTAMP:20260424T075720
CREATED:20230203T062610Z
LAST-MODIFIED:20230617T010339Z
UID:7471-1687593600-1687712400@www.okcc.org
SUMMARY:2023 OKCC Members Camping Trip- Klickitat River
DESCRIPTION:Mark your calendars for the annual OKCC members campout and paddling weekend! \n\nWe will  be camping at Leidl campground on the Klickitat this year\, and there will be 2 club led paddles.  Saturday June 24th: a Class III run from Parrot Crossing to Summit Creek Bridge\, led by Carl Hansen & Chris Massey. Sunday June 25th: a Class II run from Icehouse to Turkey Hole\, led by Karla Bergstrom. Please contact the pertinent trip leaders if you have questions about the respective runs. (As with all OKCC trips\, a properly fitted whitewater helmet & pfd\, whistle\, float bags\, appropriate immersion gear and a signed OKCC waiver are required to participate in on-water activities).\nHot Dogs and Burgers will be provided Saturday night (bring your own sides and adult beverages if you so desire)\, breakfast will be provided Sunday. Snacks and basic sandwich fixin's will also be available.\nPlease note that a Washington State Discover Pass is required to park at all put ins/take outs/ campgrounds.\n\nLeidl Campground\n\nAmenities are limited. Water is not available at the campground so please bring enough water for your party. The sites are large enough to pull trailers in\, but there are no hookups. Pit toilets only. There are enough trees for hammocks.\nThere is already a fire ban in effect in Klickitat County\, this means NO wood\, charcoal or solid fuel fires or stoves of any kind. Propane stoves and firepits with a shutoff valve are OK.\n\nDirections:\nFrom Klickitat: travel NE on SR 142 approximately 9.6 miles\, turn left on Glenwood Hwy.Go 11 miles to Leidl Bridge. Across the bridge\, access sites are on both sides of road\, ramp is on south side of road. \nFrom Goldendale: Travel west on SR 142 11 miles\, turn right on Glenwood Hwy. Go 11 miles to Leidl Bridge. Across the bridge\, access sites are on both sides of road\, ramp is on south side of road.  \nGoogle Maps Link to Leidl  \nTentative Schedule: \nSaturday\n\nMorning-Free time for people to trickle in/set up camp\nClass III Paddle people-meet at 10:30 am at Leidl to start setting up shuttle\nDinner ~5-6 pm (burgers and hot dogs provided including a vegetarian option. Bring your own sides and adult beverages).\n\nSunday\n\nBreakfast ~9 am\nPack up camp\nClass II people: Meet at Turkey Hole campground at 1 pm (about 40 minutes from Leidl) to set shuttle.\n\nHope we see you all for a fun weekend paddling in the sun!
URL:https://www.okcc.org/event/2023-okcc-camping-trip-klickitat-river/
LOCATION:Leidl Camground S.\, Glenwood Hwy\, Glenwood\, WA\, 98620
CATEGORIES:Club Happening,Club Trip
ATTACH;FMTTYPE=image/jpeg:https://www.okcc.org/wp-content/uploads/2023/02/20190706_172017-scaled.jpg
ORGANIZER;CN="Oregon Kayak & Canoe Club":MAILTO:okccinfo@gmail.com
END:VEVENT
END:VCALENDAR