BEGIN:VCALENDAR
VERSION:2.0
PRODID:-//OKCC - ECPv6.15.18//NONSGML v1.0//EN
CALSCALE:GREGORIAN
METHOD:PUBLISH
X-WR-CALNAME:OKCC
X-ORIGINAL-URL:https://www.okcc.org
X-WR-CALDESC:Events for OKCC
REFRESH-INTERVAL;VALUE=DURATION:PT1H
X-Robots-Tag:noindex
X-PUBLISHED-TTL:PT1H
BEGIN:VTIMEZONE
TZID:America/Los_Angeles
BEGIN:DAYLIGHT
TZOFFSETFROM:-0800
TZOFFSETTO:-0700
TZNAME:PDT
DTSTART:20220313T100000
END:DAYLIGHT
BEGIN:STANDARD
TZOFFSETFROM:-0700
TZOFFSETTO:-0800
TZNAME:PST
DTSTART:20221106T090000
END:STANDARD
BEGIN:DAYLIGHT
TZOFFSETFROM:-0800
TZOFFSETTO:-0700
TZNAME:PDT
DTSTART:20230312T100000
END:DAYLIGHT
BEGIN:STANDARD
TZOFFSETFROM:-0700
TZOFFSETTO:-0800
TZNAME:PST
DTSTART:20231105T090000
END:STANDARD
BEGIN:DAYLIGHT
TZOFFSETFROM:-0800
TZOFFSETTO:-0700
TZNAME:PDT
DTSTART:20240310T100000
END:DAYLIGHT
BEGIN:STANDARD
TZOFFSETFROM:-0700
TZOFFSETTO:-0800
TZNAME:PST
DTSTART:20241103T090000
END:STANDARD
END:VTIMEZONE
BEGIN:VEVENT
DTSTART;TZID=America/Los_Angeles:20230819T103000
DTEND;TZID=America/Los_Angeles:20230819T163000
DTSTAMP:20260420T073138
CREATED:20230819T001840Z
LAST-MODIFIED:20230819T001840Z
UID:8866-1692441000-1692462600@www.okcc.org
SUMMARY:August Class II Trip-N. Santiam
DESCRIPTION:Where: PackSaddle-Mill City\, N. Santiam River \nTrip Leader: Karla Bergstrom (please contact Karla via Facebook Messenger if you have questions or plan on joining the trip) \nMeet Time: 10:30 AM Mill City Park\, Mill City OR \nAs with all club trips\, a helmet\, pfd\, whistle\, float bags\, proper immersion gear\, and a signed wavier are required to participate.
URL:https://www.okcc.org/event/august-class-ii-trip-n-santiam/
LOCATION:N. Santiam River
CATEGORIES:Class II Club Paddle,Club Trip
ATTACH;FMTTYPE=image/png:https://www.okcc.org/wp-content/uploads/2022/01/Class2Trip.png
ORGANIZER;CN="Oregon Kayak & Canoe Club":MAILTO:okccinfo@gmail.com
END:VEVENT
END:VCALENDAR