BEGIN:VCALENDAR
VERSION:2.0
PRODID:-//OKCC - ECPv6.15.18//NONSGML v1.0//EN
CALSCALE:GREGORIAN
METHOD:PUBLISH
X-WR-CALNAME:OKCC
X-ORIGINAL-URL:https://www.okcc.org
X-WR-CALDESC:Events for OKCC
REFRESH-INTERVAL;VALUE=DURATION:PT1H
X-Robots-Tag:noindex
X-PUBLISHED-TTL:PT1H
BEGIN:VTIMEZONE
TZID:America/Los_Angeles
BEGIN:DAYLIGHT
TZOFFSETFROM:-0800
TZOFFSETTO:-0700
TZNAME:PDT
DTSTART:20230312T100000
END:DAYLIGHT
BEGIN:STANDARD
TZOFFSETFROM:-0700
TZOFFSETTO:-0800
TZNAME:PST
DTSTART:20231105T090000
END:STANDARD
BEGIN:DAYLIGHT
TZOFFSETFROM:-0800
TZOFFSETTO:-0700
TZNAME:PDT
DTSTART:20240310T100000
END:DAYLIGHT
BEGIN:STANDARD
TZOFFSETFROM:-0700
TZOFFSETTO:-0800
TZNAME:PST
DTSTART:20241103T090000
END:STANDARD
BEGIN:DAYLIGHT
TZOFFSETFROM:-0800
TZOFFSETTO:-0700
TZNAME:PDT
DTSTART:20250309T100000
END:DAYLIGHT
BEGIN:STANDARD
TZOFFSETFROM:-0700
TZOFFSETTO:-0800
TZNAME:PST
DTSTART:20251102T090000
END:STANDARD
END:VTIMEZONE
BEGIN:VEVENT
DTSTART;TZID=America/Los_Angeles:20240126T180000
DTEND;TZID=America/Los_Angeles:20240126T200000
DTSTAMP:20260420T073108
CREATED:20240125T152504Z
LAST-MODIFIED:20240125T152534Z
UID:9806-1706292000-1706299200@www.okcc.org
SUMMARY:Outfitting Workshop with Next Adventure Paddle Sports
DESCRIPTION:Hello\, old and (especially) new boaters! Do you have a boat that doesn't "fit" you? This night will help! \nWe're planning an outfitting night with Next Adventure at their Paddle Shop\, focusing on boat outfitting. You can bring your questions\, foam pieces\, and other spare parts that don't fit well. \nNext also has replacement parts\, foam\, and expertise. \nWe'll talk about easy ways to adjust the outfitting on your boat: seat placement and height\, foot pegs/bulkheads\, and hip and thigh padding. We should have time for a few people to fit their own boats. \nYou'll get advice on the systems different manufacturers use\, you can try new & used gear\, and get advice on boats and paddles for your current and future paddling skills. \n-Your OKCC Club and Next Adventure Paddle Sports Center
URL:https://www.okcc.org/event/outfitting-workshop-at-next-adventure-paddle-sports/
LOCATION:Next Adventure Paddle Sports Center\, 624 SE 7th Ave\, Portland\, OR\, 97214
CATEGORIES:Class
ATTACH;FMTTYPE=image/png:https://www.okcc.org/wp-content/uploads/2023/09/OKCC-logo-smaller.png
ORGANIZER;CN="Oregon Kayak & Canoe Club":MAILTO:okccinfo@gmail.com
END:VEVENT
END:VCALENDAR