BEGIN:VCALENDAR
VERSION:2.0
PRODID:-//OKCC - ECPv6.15.18//NONSGML v1.0//EN
CALSCALE:GREGORIAN
METHOD:PUBLISH
X-WR-CALNAME:OKCC
X-ORIGINAL-URL:https://www.okcc.org
X-WR-CALDESC:Events for OKCC
REFRESH-INTERVAL;VALUE=DURATION:PT1H
X-Robots-Tag:noindex
X-PUBLISHED-TTL:PT1H
BEGIN:VTIMEZONE
TZID:America/Los_Angeles
BEGIN:DAYLIGHT
TZOFFSETFROM:-0800
TZOFFSETTO:-0700
TZNAME:PDT
DTSTART:20230312T100000
END:DAYLIGHT
BEGIN:STANDARD
TZOFFSETFROM:-0700
TZOFFSETTO:-0800
TZNAME:PST
DTSTART:20231105T090000
END:STANDARD
BEGIN:DAYLIGHT
TZOFFSETFROM:-0800
TZOFFSETTO:-0700
TZNAME:PDT
DTSTART:20240310T100000
END:DAYLIGHT
BEGIN:STANDARD
TZOFFSETFROM:-0700
TZOFFSETTO:-0800
TZNAME:PST
DTSTART:20241103T090000
END:STANDARD
BEGIN:DAYLIGHT
TZOFFSETFROM:-0800
TZOFFSETTO:-0700
TZNAME:PDT
DTSTART:20250309T100000
END:DAYLIGHT
BEGIN:STANDARD
TZOFFSETFROM:-0700
TZOFFSETTO:-0800
TZNAME:PST
DTSTART:20251102T090000
END:STANDARD
END:VTIMEZONE
BEGIN:VEVENT
DTSTART;TZID=America/Los_Angeles:20240224T100000
DTEND;TZID=America/Los_Angeles:20240224T160000
DTSTAMP:20260422T022711
CREATED:20240212T192015Z
LAST-MODIFIED:20240212T192432Z
UID:9922-1708768800-1708790400@www.okcc.org
SUMMARY:February Class III Trip-Bull Run
DESCRIPTION:The February Class III Trip - Bull Run \nTrip Leader: Carl Hansen-please contact Carl at (406) 471-3274 if you plan to join\, or have any questions about necessary skill levels etc. \nMeet at Bull Run put-in at 10:00 am if you would like to run the slalom gates for a few hours in the morning\, meet at 1:00 pm for the downriver run. \nThis is a club trip\, signed waivers\, whitewater helmet and pfd\, float bag\, whistle and proper immersion gear are required to participate.
URL:https://www.okcc.org/event/february-class-iii-trip-bull-run/
LOCATION:Bull Run\, https://maps.app.goo.gl/y7Uv8xiksynQ1CVg9
CATEGORIES:Class III Club Paddle,Club Trip
ATTACH;FMTTYPE=image/png:https://www.okcc.org/wp-content/uploads/2022/01/Class3Trip.png
ORGANIZER;CN="Oregon Kayak & Canoe Club":MAILTO:okccinfo@gmail.com
END:VEVENT
BEGIN:VEVENT
DTSTART;TZID=America/Los_Angeles:20240224T170000
DTEND;TZID=America/Los_Angeles:20240224T190000
DTSTAMP:20260422T022711
CREATED:20240114T221738Z
LAST-MODIFIED:20240114T221738Z
UID:9735-1708794000-1708801200@www.okcc.org
SUMMARY:Winter Kayak Polo - INDOORS
DESCRIPTION:Winter Season Indoor Kayak Polo\nPlease email play@portlandkayakpolo.com for more information. \nFor more information about kayak polo\, visit Portland Kayak Polo - PDXKP on Facebook\, or email Amy Carlson for more information\, including drop-in availability and loaner polo gear at carlsonamy@hotmail.com \nWinter Season Indoor Polo \nLocation: Oregon City Pool - 1211 Jackson St\, Oregon City\nSeason Pass: $120 ($45 savings)\nDrop In Cost: $15\nSeason Length: 11 sessions - 2 hours each\n1 Saturday\, Nov 11\, 2023 2-4 PM\n2 Saturday\, Dec 30\, 2023 5-7 PM\n3 Saturday\, Jan 6\, 2024 5-7 PM\n4 CANCELED DUE TO WEATHER:  Saturday\, Jan 13\, 2024 5-7 PM\n5 Saturday\, Jan 27\, 2024 5-7 PM\n6 Saturday\, Feb 3\, 2024 3-5 PM\n7 Saturday\, Feb 10\, 2024 5-7 PM\n8 Saturday\, Feb 24\, 2024 5-7 PM\n9 Saturday\, Mar 2\, 2024 5-7 PM\n10 Saturday\, Mar 23\, 2024 3-5 PM\n11 Saturday\, Mar 30\, 2024 5-7 PM \nSeason pass holders are guaranteed a spot each week.\nTotal attendance is capped at 16 players.\nYou can pay for your season pass via Venmo (@aim222) or PayPal (carlsonamy@hotmail.com)
URL:https://www.okcc.org/event/winter-kayak-polo-indoors-6/
LOCATION:Oregon City Pool\, 1211 Jackson St.\, Oregon City\, OR\, 97045
CATEGORIES:Kayak Polo practice - Winter Season INDOORS
ORGANIZER;CN="Kayak Polo Organizer (PDXKP)":MAILTO:play@portlandkayakpolo.com
END:VEVENT
END:VCALENDAR