BEGIN:VCALENDAR
VERSION:2.0
PRODID:-//OKCC - ECPv6.15.18//NONSGML v1.0//EN
CALSCALE:GREGORIAN
METHOD:PUBLISH
X-ORIGINAL-URL:https://www.okcc.org
X-WR-CALDESC:Events for OKCC
REFRESH-INTERVAL;VALUE=DURATION:PT1H
X-Robots-Tag:noindex
X-PUBLISHED-TTL:PT1H
BEGIN:VTIMEZONE
TZID:America/Los_Angeles
BEGIN:DAYLIGHT
TZOFFSETFROM:-0800
TZOFFSETTO:-0700
TZNAME:PDT
DTSTART:20240310T100000
END:DAYLIGHT
BEGIN:STANDARD
TZOFFSETFROM:-0700
TZOFFSETTO:-0800
TZNAME:PST
DTSTART:20241103T090000
END:STANDARD
BEGIN:DAYLIGHT
TZOFFSETFROM:-0800
TZOFFSETTO:-0700
TZNAME:PDT
DTSTART:20250309T100000
END:DAYLIGHT
BEGIN:STANDARD
TZOFFSETFROM:-0700
TZOFFSETTO:-0800
TZNAME:PST
DTSTART:20251102T090000
END:STANDARD
BEGIN:DAYLIGHT
TZOFFSETFROM:-0800
TZOFFSETTO:-0700
TZNAME:PDT
DTSTART:20260308T100000
END:DAYLIGHT
BEGIN:STANDARD
TZOFFSETFROM:-0700
TZOFFSETTO:-0800
TZNAME:PST
DTSTART:20261101T090000
END:STANDARD
END:VTIMEZONE
BEGIN:VEVENT
DTSTART;TZID=America/Los_Angeles:20251203T180000
DTEND;TZID=America/Los_Angeles:20251203T210000
DTSTAMP:20260423T102013
CREATED:20251118T034146Z
LAST-MODIFIED:20251118T034326Z
UID:12054-1764784800-1764795600@www.okcc.org
SUMMARY:2025 Annual Members Meeting - Flying Pie Pizza
DESCRIPTION:It's time once again for pizza\, salad\, and good times at the annual members meeting! We will be celebrating the year gone by\, holding a raffle\, and of course...voting in a new board. Don't miss out\, come support the club you love. See you there! \nPlease RSVP if you plan to attend so we can get a rough head count for the food
URL:https://www.okcc.org/event/2025-annual-members-meeting/
LOCATION:Flying Pie Pizzeria\, 7804 SE Stark St\, Portland\, OR\, 97215
CATEGORIES:Club Happening
ATTACH;FMTTYPE=image/png:https://www.okcc.org/wp-content/uploads/2023/09/cropped-OKCC-logo-smaller.png
ORGANIZER;CN="Oregon Kayak & Canoe Club":MAILTO:okccinfo@gmail.com
END:VEVENT
END:VCALENDAR