BEGIN:VCALENDAR
VERSION:2.0
PRODID:-//OKCC - ECPv6.15.18//NONSGML v1.0//EN
CALSCALE:GREGORIAN
METHOD:PUBLISH
X-WR-CALNAME:OKCC
X-ORIGINAL-URL:https://www.okcc.org
X-WR-CALDESC:Events for OKCC
REFRESH-INTERVAL;VALUE=DURATION:PT1H
X-Robots-Tag:noindex
X-PUBLISHED-TTL:PT1H
BEGIN:VTIMEZONE
TZID:America/Los_Angeles
BEGIN:DAYLIGHT
TZOFFSETFROM:-0800
TZOFFSETTO:-0700
TZNAME:PDT
DTSTART:20240310T100000
END:DAYLIGHT
BEGIN:STANDARD
TZOFFSETFROM:-0700
TZOFFSETTO:-0800
TZNAME:PST
DTSTART:20241103T090000
END:STANDARD
BEGIN:DAYLIGHT
TZOFFSETFROM:-0800
TZOFFSETTO:-0700
TZNAME:PDT
DTSTART:20250309T100000
END:DAYLIGHT
BEGIN:STANDARD
TZOFFSETFROM:-0700
TZOFFSETTO:-0800
TZNAME:PST
DTSTART:20251102T090000
END:STANDARD
BEGIN:DAYLIGHT
TZOFFSETFROM:-0800
TZOFFSETTO:-0700
TZNAME:PDT
DTSTART:20260308T100000
END:DAYLIGHT
BEGIN:STANDARD
TZOFFSETFROM:-0700
TZOFFSETTO:-0800
TZNAME:PST
DTSTART:20261101T090000
END:STANDARD
END:VTIMEZONE
BEGIN:VEVENT
DTSTART;TZID=America/Los_Angeles:20250131T183000
DTEND;TZID=America/Los_Angeles:20250131T200000
DTSTAMP:20260422T022434
CREATED:20250107T030427Z
LAST-MODIFIED:20250107T030522Z
UID:10986-1738348200-1738353600@www.okcc.org
SUMMARY:Running Uncharted Water - Discussion Night
DESCRIPTION:Come join us for an important evening of discussion about scouting and running unfamiliar rivers\, led by Paul Kuthe\, Tim Layzell and Chris Meinke\, hosted by Luke Spencer. We will talk about potential hazards and how to mitigate that risk. \nThere will be an optional on-water practice day the following morning\, river/run TBD. \nPizza and non-alcoholic beverages will be provided by the club. Please RSVP to the event so we can get a head count. Hope to see you there!
URL:https://www.okcc.org/event/running-uncharted-water-discussion/
LOCATION:Clackamas River Outfitters\, 360 SW Zobrist St\, Estacada\, OR\, 97023
CATEGORIES:Class
ATTACH;FMTTYPE=image/jpeg:https://www.okcc.org/wp-content/uploads/2025/01/Screenshot_20250106_162645_Video-Editor.jpg
ORGANIZER;CN="Oregon Kayak & Canoe Club":MAILTO:okccinfo@gmail.com
END:VEVENT
END:VCALENDAR