BEGIN:VCALENDAR
VERSION:2.0
PRODID:-//OKCC - ECPv6.15.20//NONSGML v1.0//EN
CALSCALE:GREGORIAN
METHOD:PUBLISH
X-ORIGINAL-URL:https://www.okcc.org
X-WR-CALDESC:Events for OKCC
REFRESH-INTERVAL;VALUE=DURATION:PT1H
X-Robots-Tag:noindex
X-PUBLISHED-TTL:PT1H
BEGIN:VTIMEZONE
TZID:America/Los_Angeles
BEGIN:DAYLIGHT
TZOFFSETFROM:-0800
TZOFFSETTO:-0700
TZNAME:PDT
DTSTART:20230312T100000
END:DAYLIGHT
BEGIN:STANDARD
TZOFFSETFROM:-0700
TZOFFSETTO:-0800
TZNAME:PST
DTSTART:20231105T090000
END:STANDARD
BEGIN:DAYLIGHT
TZOFFSETFROM:-0800
TZOFFSETTO:-0700
TZNAME:PDT
DTSTART:20240310T100000
END:DAYLIGHT
BEGIN:STANDARD
TZOFFSETFROM:-0700
TZOFFSETTO:-0800
TZNAME:PST
DTSTART:20241103T090000
END:STANDARD
BEGIN:DAYLIGHT
TZOFFSETFROM:-0800
TZOFFSETTO:-0700
TZNAME:PDT
DTSTART:20250309T100000
END:DAYLIGHT
BEGIN:STANDARD
TZOFFSETFROM:-0700
TZOFFSETTO:-0800
TZNAME:PST
DTSTART:20251102T090000
END:STANDARD
END:VTIMEZONE
BEGIN:VEVENT
DTSTART;TZID=America/Los_Angeles:20241205T180000
DTEND;TZID=America/Los_Angeles:20241205T210000
DTSTAMP:20260425T105356
CREATED:20241012T000746Z
LAST-MODIFIED:20241012T000746Z
UID:10567-1733421600-1733432400@www.okcc.org
SUMMARY:Annual OKCC Members Meeting & Pizza Extravaganza!
DESCRIPTION:It's the annual members meeting! Are you an OKCC member? Come out to Flying Pie Pizza on December 5th\, 2024.  See friends out of their paddling gear (will you recognize them?) Eat some pizza\, vote on the board and stay for the raffle! \nHope we see you there! \n 
URL:https://www.okcc.org/event/annual-okcc-members-meeting-pizza-extravaganza/
LOCATION:Flying Pie Pizzeria\, 7804 SE Stark St\, Portland\, OR\, 97215
CATEGORIES:Club Happening
ATTACH;FMTTYPE=image/png:https://www.okcc.org/wp-content/uploads/2023/09/OKCC-logo-smaller.png
ORGANIZER;CN="Oregon Kayak & Canoe Club":MAILTO:okccinfo@gmail.com
END:VEVENT
END:VCALENDAR