BEGIN:VCALENDAR
VERSION:2.0
PRODID:-//OKCC - ECPv6.15.18//NONSGML v1.0//EN
CALSCALE:GREGORIAN
METHOD:PUBLISH
X-ORIGINAL-URL:https://www.okcc.org
X-WR-CALDESC:Events for OKCC
REFRESH-INTERVAL;VALUE=DURATION:PT1H
X-Robots-Tag:noindex
X-PUBLISHED-TTL:PT1H
BEGIN:VTIMEZONE
TZID:America/Los_Angeles
BEGIN:DAYLIGHT
TZOFFSETFROM:-0800
TZOFFSETTO:-0700
TZNAME:PDT
DTSTART:20240310T100000
END:DAYLIGHT
BEGIN:STANDARD
TZOFFSETFROM:-0700
TZOFFSETTO:-0800
TZNAME:PST
DTSTART:20241103T090000
END:STANDARD
BEGIN:DAYLIGHT
TZOFFSETFROM:-0800
TZOFFSETTO:-0700
TZNAME:PDT
DTSTART:20250309T100000
END:DAYLIGHT
BEGIN:STANDARD
TZOFFSETFROM:-0700
TZOFFSETTO:-0800
TZNAME:PST
DTSTART:20251102T090000
END:STANDARD
BEGIN:DAYLIGHT
TZOFFSETFROM:-0800
TZOFFSETTO:-0700
TZNAME:PDT
DTSTART:20260308T100000
END:DAYLIGHT
BEGIN:STANDARD
TZOFFSETFROM:-0700
TZOFFSETTO:-0800
TZNAME:PST
DTSTART:20261101T090000
END:STANDARD
END:VTIMEZONE
BEGIN:VEVENT
DTSTART;TZID=America/Los_Angeles:20250907T083000
DTEND;TZID=America/Los_Angeles:20250907T153000
DTSTAMP:20260421T062615
CREATED:20250828T045404Z
LAST-MODIFIED:20250828T045404Z
UID:11821-1757233800-1757259000@www.okcc.org
SUMMARY:Down the Clackamas River Clean Up '25!
DESCRIPTION:It's that time of year where we give back to the river we love! \nJoin the OKCC as we help with the annual Down The Clackamas River Clean Up Sunday\, Sept\, 7th! The club will be on the Barton to Carver section\, but feel free to pick any section you like (there's no wrong choice).  Don't forget to join us at the volunteer BBQ at Barton Park following the clean up! \nClick the link below to get your free ticket and let them know you're coming. Be there or be square! \nhttps://www.eventbrite.com/cc/2025-down-the-clackamas-river-cleanup-4380363
URL:https://www.okcc.org/event/clackamas-cleanup-25/
LOCATION:Clackamas River\, Oregon
CATEGORIES:Club Happening
ATTACH;FMTTYPE=image/jpeg:https://www.okcc.org/wp-content/uploads/2025/08/DTHRC-Banner-image1.jpg
END:VEVENT
END:VCALENDAR