BEGIN:VCALENDAR
VERSION:2.0
PRODID:-//OKCC - ECPv6.15.18//NONSGML v1.0//EN
CALSCALE:GREGORIAN
METHOD:PUBLISH
X-WR-CALNAME:OKCC
X-ORIGINAL-URL:https://www.okcc.org
X-WR-CALDESC:Events for OKCC
REFRESH-INTERVAL;VALUE=DURATION:PT1H
X-Robots-Tag:noindex
X-PUBLISHED-TTL:PT1H
BEGIN:VTIMEZONE
TZID:America/Los_Angeles
BEGIN:DAYLIGHT
TZOFFSETFROM:-0800
TZOFFSETTO:-0700
TZNAME:PDT
DTSTART:20210314T100000
END:DAYLIGHT
BEGIN:STANDARD
TZOFFSETFROM:-0700
TZOFFSETTO:-0800
TZNAME:PST
DTSTART:20211107T090000
END:STANDARD
BEGIN:DAYLIGHT
TZOFFSETFROM:-0800
TZOFFSETTO:-0700
TZNAME:PDT
DTSTART:20220313T100000
END:DAYLIGHT
BEGIN:STANDARD
TZOFFSETFROM:-0700
TZOFFSETTO:-0800
TZNAME:PST
DTSTART:20221106T090000
END:STANDARD
BEGIN:DAYLIGHT
TZOFFSETFROM:-0800
TZOFFSETTO:-0700
TZNAME:PDT
DTSTART:20230312T100000
END:DAYLIGHT
BEGIN:STANDARD
TZOFFSETFROM:-0700
TZOFFSETTO:-0800
TZNAME:PST
DTSTART:20231105T090000
END:STANDARD
BEGIN:DAYLIGHT
TZOFFSETFROM:-0800
TZOFFSETTO:-0700
TZNAME:PDT
DTSTART:20240310T100000
END:DAYLIGHT
BEGIN:STANDARD
TZOFFSETFROM:-0700
TZOFFSETTO:-0800
TZNAME:PST
DTSTART:20241103T090000
END:STANDARD
END:VTIMEZONE
BEGIN:VEVENT
DTSTART;TZID=America/Los_Angeles:20230129T100000
DTEND;TZID=America/Los_Angeles:20230129T170000
DTSTAMP:20260423T045104
CREATED:20230127T193759Z
LAST-MODIFIED:20230127T193759Z
UID:7334-1674986400-1675011600@www.okcc.org
SUMMARY:OKCC Trip Leader Recruitment Paddle/Class III Trip
DESCRIPTION:Ever thought of becoming a trip leader\, clinic leader or safety boater for the OKCC but didn't know how?  If you're interested\, join us for a class III paddle and info session on Sunday\, Jan 29th. You are welcome to join either or both. \nThe Trip: meet at Hathaway Park in Washougal at 10:00 am. We will be running milepost 7 to Hathaway Park. \nInfo Session: Meet at Doomsday Brewing in Washougal\, WA around 2:30-3:00 PM-ish (it's river time). \nTrip Leader/Organizer: Carl Hansen -please contact Carl via Facebook Messenger or text at (406) 471-3274 if you would like to participate in either or both activities. \nFor the paddling portion: This is an official OKCC event\, you will need a helmet\, whistle\, PFD\, at least 2 float bags\, a signed waiver and proper emersion gear. 
URL:https://www.okcc.org/event/okcc-trip-leader-recruitment-paddle-class-iii-trip/
LOCATION:Doomsday Brewing\, 421 C St #2\, Washougal\, WA\, 98671
CATEGORIES:Class III Club Paddle,Club Happening,Club Trip
ATTACH;FMTTYPE=image/png:https://www.okcc.org/wp-content/uploads/2022/01/Class3Trip.png
ORGANIZER;CN="Oregon Kayak & Canoe Club":MAILTO:okccinfo@gmail.com
END:VEVENT
BEGIN:VEVENT
DTSTART;TZID=America/Los_Angeles:20221201T183000
DTEND;TZID=America/Los_Angeles:20221201T210000
DTSTAMP:20260423T045104
CREATED:20221116T025735Z
LAST-MODIFIED:20230225T074328Z
UID:5945-1669919400-1669928400@www.okcc.org
SUMMARY:OKCC Annual Meeting
DESCRIPTION:Come join us for the OKCC annual meeting and pizza extravaganza at Flying Pie on Thursday\, Dec 1st at 6:30 pm! \nWe will hold a raffle and vote for the 2023 OKCC board among other things. Mostly we will eat pizza and have fun together as a club. Hope we see you there! \nPizza and salad will be provided by the club\, alcoholic beverages and other extras are on you.
URL:https://www.okcc.org/event/okcc-annual-meeting/
LOCATION:Flying Pie Pizzeria\, 7804 SE Stark St\, Portland\, OR\, 97215
CATEGORIES:Club Happening
ATTACH;FMTTYPE=image/png:https://www.okcc.org/wp-content/uploads/2022/02/Untitled1444_20220214230930.png
END:VEVENT
BEGIN:VEVENT
DTSTART;TZID=America/Los_Angeles:20220723T100000
DTEND;TZID=America/Los_Angeles:20220723T180000
DTSTAMP:20260423T045104
CREATED:20220708T140445Z
LAST-MODIFIED:20230225T074521Z
UID:5143-1658570400-1658599200@www.okcc.org
SUMMARY:The Annual OKCC BBQ & Paddle!
DESCRIPTION:It's time for the annual OKCC BBQ! (and paddle of course)! \n•When/Where: the BBQ will be held at around 4 pm Saturday\, July 23rd at Northwestern Park in Husum\, WA (you do not have to paddle that day to join the BBQ festivities). \n•The runs: We will have two official trips running before the BBQ: a MWS (class III trip) group meeting at the park around 10 am\, and a LWS (class II trip) group meeting at the park around 11 am. Trip Leaders TBD\, stand by for further info later in the week. \n•Once the paddlers finish up\, we'll all gather at the park for some tasty burgers and hotdogs with all the fixin's provided by the club. Bring your own sides and tasty beverages to round out the fare! \n☆If you are paddling: these are official club trips. A signed waiver\, properly fitted whitewater helmet & pfd\, whistle\, float bags\, appropriate footwear & immersion gear and a throw bag are required to participate.
URL:https://www.okcc.org/event/the-annual-okcc-bbq-paddle/
LOCATION:Northwestern Park\, Husum WA\, Husum\, WA
CATEGORIES:Class II Club Paddle,Class III Club Paddle,Club Happening,Club Trip
ATTACH;FMTTYPE=image/jpeg:https://www.okcc.org/wp-content/uploads/2022/01/20220107_113512-scaled-e1669684095826.jpg
END:VEVENT
BEGIN:VEVENT
DTSTART;TZID=America/Los_Angeles:20220226T100000
DTEND;TZID=America/Los_Angeles:20220226T180000
DTSTAMP:20260423T045104
CREATED:20220217T014836Z
LAST-MODIFIED:20220217T014836Z
UID:3947-1645869600-1645898400@www.okcc.org
SUMMARY:February Class III Trip/Trip Leader BBQ
DESCRIPTION:Calling all prospective trip leaders and Class III paddlers! \nJoin us for a safety practice oriented class III trip and stay for the 4 pm BBQ for those interested in finding out what it takes to lead official OKCC trips! \nTrip Leader: Carl Hansen \nRiver TBD
URL:https://www.okcc.org/event/february-class-iii-trip-trip-leader-bbq/
LOCATION:River TBD\, Oregon
CATEGORIES:Class III Club Paddle,Club Happening,Club Trip
ATTACH;FMTTYPE=image/png:https://www.okcc.org/wp-content/uploads/2022/01/Class3Trip.png
ORGANIZER;CN="Oregon Kayak & Canoe Club":MAILTO:okccinfo@gmail.com
END:VEVENT
END:VCALENDAR