BEGIN:VCALENDAR
VERSION:2.0
PRODID:-//OKCC - ECPv6.15.18//NONSGML v1.0//EN
CALSCALE:GREGORIAN
METHOD:PUBLISH
X-ORIGINAL-URL:https://www.okcc.org
X-WR-CALDESC:Events for OKCC
REFRESH-INTERVAL;VALUE=DURATION:PT1H
X-Robots-Tag:noindex
X-PUBLISHED-TTL:PT1H
BEGIN:VTIMEZONE
TZID:America/Los_Angeles
BEGIN:DAYLIGHT
TZOFFSETFROM:-0800
TZOFFSETTO:-0700
TZNAME:PDT
DTSTART:20230312T100000
END:DAYLIGHT
BEGIN:STANDARD
TZOFFSETFROM:-0700
TZOFFSETTO:-0800
TZNAME:PST
DTSTART:20231105T090000
END:STANDARD
BEGIN:DAYLIGHT
TZOFFSETFROM:-0800
TZOFFSETTO:-0700
TZNAME:PDT
DTSTART:20240310T100000
END:DAYLIGHT
BEGIN:STANDARD
TZOFFSETFROM:-0700
TZOFFSETTO:-0800
TZNAME:PST
DTSTART:20241103T090000
END:STANDARD
BEGIN:DAYLIGHT
TZOFFSETFROM:-0800
TZOFFSETTO:-0700
TZNAME:PDT
DTSTART:20250309T100000
END:DAYLIGHT
BEGIN:STANDARD
TZOFFSETFROM:-0700
TZOFFSETTO:-0800
TZNAME:PST
DTSTART:20251102T090000
END:STANDARD
END:VTIMEZONE
BEGIN:VEVENT
DTSTART;TZID=America/Los_Angeles:20240323T120000
DTEND;TZID=America/Los_Angeles:20240323T160000
DTSTAMP:20260419T054809
CREATED:20240319T025907Z
LAST-MODIFIED:20240319T025907Z
UID:10150-1711195200-1711209600@www.okcc.org
SUMMARY:March Class II Trip-Washougal River
DESCRIPTION:The OKCC March Class II Trip \nThe run: Washougal River\, MP5- Hathaway Park \nMeet time: Noon at the Hatahaway park Boat Launch area. \nTrip Leader: Karla Bergstrom. Please contact Karla via Facebook Messenger if you plan on attending or have any questions about necessary skill level etc. \nAs with all OKCC events\, a signed waiver\, properly fitted whitewater helmet and PFD\, whistle\, at least 2 float bags\, and appropriate immersion gear are required to participate. \n  \n 
URL:https://www.okcc.org/event/march-class-ii-trip-washougal-river/
LOCATION:Oregon
CATEGORIES:Class II Club Paddle,Club Trip
ATTACH;FMTTYPE=image/png:https://www.okcc.org/wp-content/uploads/2022/01/Class2Trip.png
ORGANIZER;CN="Oregon Kayak & Canoe Club":MAILTO:okccinfo@gmail.com
END:VEVENT
END:VCALENDAR