BEGIN:VCALENDAR
VERSION:2.0
PRODID:-//OKCC - ECPv6.15.18//NONSGML v1.0//EN
CALSCALE:GREGORIAN
METHOD:PUBLISH
X-WR-CALNAME:OKCC
X-ORIGINAL-URL:https://www.okcc.org
X-WR-CALDESC:Events for OKCC
REFRESH-INTERVAL;VALUE=DURATION:PT1H
X-Robots-Tag:noindex
X-PUBLISHED-TTL:PT1H
BEGIN:VTIMEZONE
TZID:America/Los_Angeles
BEGIN:DAYLIGHT
TZOFFSETFROM:-0800
TZOFFSETTO:-0700
TZNAME:PDT
DTSTART:20210314T100000
END:DAYLIGHT
BEGIN:STANDARD
TZOFFSETFROM:-0700
TZOFFSETTO:-0800
TZNAME:PST
DTSTART:20211107T090000
END:STANDARD
BEGIN:DAYLIGHT
TZOFFSETFROM:-0800
TZOFFSETTO:-0700
TZNAME:PDT
DTSTART:20220313T100000
END:DAYLIGHT
BEGIN:STANDARD
TZOFFSETFROM:-0700
TZOFFSETTO:-0800
TZNAME:PST
DTSTART:20221106T090000
END:STANDARD
BEGIN:DAYLIGHT
TZOFFSETFROM:-0800
TZOFFSETTO:-0700
TZNAME:PDT
DTSTART:20230312T100000
END:DAYLIGHT
BEGIN:STANDARD
TZOFFSETFROM:-0700
TZOFFSETTO:-0800
TZNAME:PST
DTSTART:20231105T090000
END:STANDARD
BEGIN:DAYLIGHT
TZOFFSETFROM:-0800
TZOFFSETTO:-0700
TZNAME:PDT
DTSTART:20240310T100000
END:DAYLIGHT
BEGIN:STANDARD
TZOFFSETFROM:-0700
TZOFFSETTO:-0800
TZNAME:PST
DTSTART:20241103T090000
END:STANDARD
BEGIN:DAYLIGHT
TZOFFSETFROM:-0800
TZOFFSETTO:-0700
TZNAME:PDT
DTSTART:20250309T100000
END:DAYLIGHT
BEGIN:STANDARD
TZOFFSETFROM:-0700
TZOFFSETTO:-0800
TZNAME:PST
DTSTART:20251102T090000
END:STANDARD
END:VTIMEZONE
BEGIN:VEVENT
DTSTART;TZID=America/Los_Angeles:20240217T103000
DTEND;TZID=America/Los_Angeles:20240217T170000
DTSTAMP:20260421T015733
CREATED:20240212T184555Z
LAST-MODIFIED:20240216T221916Z
UID:9920-1708165800-1708189200@www.okcc.org
SUMMARY:February Class II Trip-2/17/24
DESCRIPTION:February Class II Trip- Lower East Fork Lewis River \nMeet time: 10:30 am at the takeout- DayBreak Park\, Battle Ground\, WA. \nTrip Leader: Karla Bergstrom\, please contact Karla via Facebook Messenger if you plan to attend or if you have any questions about skill level\, equipment etc. \nThis is a club trip\, waivers must be signed\, whitewater PFDs and helmets\, whistle\, float bags\, and proper immersion gear are required to participate.
URL:https://www.okcc.org/event/february-class-ii-trip/
LOCATION:River TBD\, Oregon
CATEGORIES:Class II Club Paddle,Club Trip
ATTACH;FMTTYPE=image/png:https://www.okcc.org/wp-content/uploads/2022/01/Class2Trip.png
ORGANIZER;CN="Oregon Kayak & Canoe Club":MAILTO:okccinfo@gmail.com
END:VEVENT
BEGIN:VEVENT
DTSTART;TZID=America/Los_Angeles:20231111T080000
DTEND;TZID=America/Los_Angeles:20231111T170000
DTSTAMP:20260421T015733
CREATED:20231109T011014Z
LAST-MODIFIED:20231110T054519Z
UID:9358-1699689600-1699722000@www.okcc.org
SUMMARY:November Class II Trip
DESCRIPTION:It's the November Club Class II Trip! \nRiver/Run: Washougal River\, Milepost 5 to Hathaway Park \nTrip Leaders: Karla Bergstrom & Emily Hooker. Please contact either by Facebook Messenger with any questions or concerns \nMeet time: 11:00 am at the Hathaway Park boat launch (not the upper park). \nAs with all club trips\, a signed waiver\, properly fitted PFD & helmet\, at least 2 float bags\, a whistle and appropriate immersion gear/footwear are required to participate in on-water events.
URL:https://www.okcc.org/event/november-class-ii-trip/
LOCATION:River TBD\, Oregon
CATEGORIES:Class II Club Paddle,Club Trip
ATTACH;FMTTYPE=image/png:https://www.okcc.org/wp-content/uploads/2022/01/Class2Trip.png
ORGANIZER;CN="Oregon Kayak & Canoe Club":MAILTO:okccinfo@gmail.com
END:VEVENT
BEGIN:VEVENT
DTSTART;TZID=America/Los_Angeles:20231028T100000
DTEND;TZID=America/Los_Angeles:20231028T170000
DTSTAMP:20260421T015733
CREATED:20231024T203813Z
LAST-MODIFIED:20231024T203903Z
UID:9172-1698487200-1698512400@www.okcc.org
SUMMARY:October Class II Trip
DESCRIPTION:The Run: PackSaddle on the N. Santiam. \nTrip Leader: Chris Massey-please contact Chris via Facebook Messenger if you would like to join or have questions about skill level etc. \nMeet: Mill City Park at noon. Don't be late! We will be joining the class III peeps at Packsaddle Park at 1 pm as they come down from the Niagara section. \nAs with all OKCC trips\, a signed waiver\, pfd\, helmet\, immersion gear\, whistle\, float bags and appropriate foot wear are required.
URL:https://www.okcc.org/event/october-class-ii-trip/
LOCATION:N. Santiam River
CATEGORIES:Class II Club Paddle,Club Trip
ATTACH;FMTTYPE=image/png:https://www.okcc.org/wp-content/uploads/2022/01/Class2Trip.png
ORGANIZER;CN="Oregon Kayak & Canoe Club":MAILTO:okccinfo@gmail.com
END:VEVENT
BEGIN:VEVENT
DTSTART;TZID=America/Los_Angeles:20231001T100000
DTEND;TZID=America/Los_Angeles:20231001T170000
DTSTAMP:20260421T015733
CREATED:20230915T050723Z
LAST-MODIFIED:20230924T151514Z
UID:8971-1696154400-1696179600@www.okcc.org
SUMMARY:OKCC Club BBQ!
DESCRIPTION:It's the annual OKCC club BBQ & Paddle! Come join us for a day of running the White Salmon followed by some good company and good eats around 3 pm at NorthwesternPark. Burgers/hot dogs with the 'fixins will be provided by the club. Bring a side or any special beverages you may desire. \nWe will be running 2 trips: •The Middle meeting at 10 am in Northwestern Park. \n•The Lower meeting at 1 pm in Northwestern Park. \n•Trip leader: Carl Hansen. Please contact Carl at (406) 471-3274 if you would like to join or have any questions about skill level etc. \nAs with all OKCC trips\, for the on-water portion a properly fitted whitewater helmet & PFD\, a whistle\, float bags\, appropriate immersion wear and a signed OKCC waiver are required to participate. \nSYOTR! \n 
URL:https://www.okcc.org/event/okcc-club-bbq/
LOCATION:White Salmon River (MWS)
CATEGORIES:Class II Club Paddle,Class III Club Paddle,Club Happening,Club Trip
ATTACH;FMTTYPE=image/jpeg:https://www.okcc.org/wp-content/uploads/2022/01/20220119_161418.jpg
ORGANIZER;CN="Oregon Kayak & Canoe Club":MAILTO:okccinfo@gmail.com
END:VEVENT
BEGIN:VEVENT
DTSTART;TZID=America/Los_Angeles:20230924T103000
DTEND;TZID=America/Los_Angeles:20230924T160000
DTSTAMP:20260421T015733
CREATED:20230915T050139Z
LAST-MODIFIED:20230915T050157Z
UID:8968-1695551400-1695571200@www.okcc.org
SUMMARY:September Class II Paddle - N. Santiam
DESCRIPTION:The run: N. Santiam River\, PackSaddle to Mill City \nTrip Leader: Karla Bergstrom - please contact Karla via Face Book messenger if you would like to join the trip or have questions regarding skill level/gear/etc \nMeet Time: 10:30 am\, Mill City Park parking lot across from eNRG kayaking \nAs with all OKCC trips\, a properly fitted helmet & pfd\, whistle\, float bags\, appropriate immersion gear & footwear\, and a signed club waiver are required for all participants.
URL:https://www.okcc.org/event/september-23-class-ii-paddle-n-santiam/
LOCATION:N. Santiam River
CATEGORIES:Class II Club Paddle,Club Trip
ATTACH;FMTTYPE=image/png:https://www.okcc.org/wp-content/uploads/2022/01/Class2Trip.png
ORGANIZER;CN="Oregon Kayak & Canoe Club":MAILTO:okccinfo@gmail.com
END:VEVENT
BEGIN:VEVENT
DTSTART;TZID=America/Los_Angeles:20230819T103000
DTEND;TZID=America/Los_Angeles:20230819T163000
DTSTAMP:20260421T015733
CREATED:20230819T001840Z
LAST-MODIFIED:20230819T001840Z
UID:8866-1692441000-1692462600@www.okcc.org
SUMMARY:August Class II Trip-N. Santiam
DESCRIPTION:Where: PackSaddle-Mill City\, N. Santiam River \nTrip Leader: Karla Bergstrom (please contact Karla via Facebook Messenger if you have questions or plan on joining the trip) \nMeet Time: 10:30 AM Mill City Park\, Mill City OR \nAs with all club trips\, a helmet\, pfd\, whistle\, float bags\, proper immersion gear\, and a signed wavier are required to participate.
URL:https://www.okcc.org/event/august-class-ii-trip-n-santiam/
LOCATION:N. Santiam River
CATEGORIES:Class II Club Paddle,Club Trip
ATTACH;FMTTYPE=image/png:https://www.okcc.org/wp-content/uploads/2022/01/Class2Trip.png
ORGANIZER;CN="Oregon Kayak & Canoe Club":MAILTO:okccinfo@gmail.com
END:VEVENT
BEGIN:VEVENT
DTSTART;TZID=America/Los_Angeles:20230715T110000
DTEND;TZID=America/Los_Angeles:20230715T170000
DTSTAMP:20260421T015733
CREATED:20230711T022807Z
LAST-MODIFIED:20230711T022807Z
UID:8814-1689418800-1689440400@www.okcc.org
SUMMARY:OKCC July Class II Trip - N. Santiam
DESCRIPTION:•Where: N. Santiam River\, OR - PackSaddle to Mill City \n•When: Saturday\, July 15th. Meet at the Mill City Park parking lot (across from eNRG kayaking) at 11 am. \n•Trip Leader: Karla Bergstrom. Please contact Karla via Facebook Messenger or through the OKCC Facebook Group Event post if you would like to join or have questions regarding necessary skills/difficulty/etc. \n•To participate you must have a current signed OKCC waiver\, a properly fitted whitewater helmet and PFD\, at least 2 float bags\, a whistle and appropriate immersion gear & footwear. \n  \n 
URL:https://www.okcc.org/event/okcc-july-class-ii-trip-n-santiam/
LOCATION:N. Santiam River
CATEGORIES:Class II Club Paddle,Club Trip
ATTACH;FMTTYPE=image/png:https://www.okcc.org/wp-content/uploads/2022/01/Class2Trip.png
ORGANIZER;CN="Oregon Kayak & Canoe Club":MAILTO:okccinfo@gmail.com
END:VEVENT
BEGIN:VEVENT
DTSTART;TZID=America/Los_Angeles:20230603T110000
DTEND;TZID=America/Los_Angeles:20230603T160000
DTSTAMP:20260421T015733
CREATED:20230525T134233Z
LAST-MODIFIED:20230525T134233Z
UID:8701-1685790000-1685808000@www.okcc.org
SUMMARY:The June OKCC Class II Trip
DESCRIPTION:The run: Pack Saddle on the N. Santiam. Meeting at 11 am at Mill City Park parking lot across from eNRG kayaking in Mill City\, OR. \nTrip Leader: Karla Bergstrom. Please contact Karla on Facebook Messenger if you would like to join the trip or if you have any questions about the run/required skills. The group size will be capped at 15 paddlers\, so please be sure to contact Karla if you plan on joining. \nAs with all OKCC trips\, a properly fitted whitewater helmet\, pfd\, at least 2 float bags\, whistle\, appropriate immersion wear and footwear\, as well as a signed OKCC waiver are required to participate. \n 
URL:https://www.okcc.org/event/the-june-okcc-class-ii-trip/
LOCATION:N. Santiam River
CATEGORIES:Class II Club Paddle,Club Trip
ATTACH;FMTTYPE=image/png:https://www.okcc.org/wp-content/uploads/2022/01/Class2Trip.png
ORGANIZER;CN="Oregon Kayak & Canoe Club":MAILTO:okccinfo@gmail.com
END:VEVENT
BEGIN:VEVENT
DTSTART;TZID=America/Los_Angeles:20230114T103000
DTEND;TZID=America/Los_Angeles:20230114T160000
DTSTAMP:20260421T015733
CREATED:20230111T083805Z
LAST-MODIFIED:20230225T074208Z
UID:7059-1673692200-1673712000@www.okcc.org
SUMMARY:OKCC Official Class II paddle January 14th 2023
DESCRIPTION:River: Washougal\, Milepost 3 or 5 to Hathaway \nMeet at Hathaway Park at 10:30 am\, Discovery Pass required for parking at MP3. \nTrip Leader: Karla Bergstrom Contact her via Facebook Messenger with questions \nThis is an official OKCC club trip. A white water helmet\, PFD\, float bags\, whistle\, proper footwear\, and immersion gear are required. Must also have a signed waiver to participate. \n 
URL:https://www.okcc.org/event/okcc-official-class-ii-paddle-january-14th-2023/
LOCATION:WA
CATEGORIES:Class II Club Paddle,Club Trip
ATTACH;FMTTYPE=image/png:https://www.okcc.org/wp-content/uploads/2022/01/Class2Trip.png
ORGANIZER;CN="Oregon Kayak & Canoe Club":MAILTO:okccinfo@gmail.com
END:VEVENT
BEGIN:VEVENT
DTSTART;TZID=America/Los_Angeles:20221210T110000
DTEND;TZID=America/Los_Angeles:20221210T160000
DTSTAMP:20260421T015733
CREATED:20221206T035800Z
LAST-MODIFIED:20230225T074304Z
UID:6300-1670670000-1670688000@www.okcc.org
SUMMARY:Official OKCC December Class II Trip
DESCRIPTION:River/Run: Sandy River\, Dodge to Oxbow\n  \nTrip Leader: Karla Bergstrom. Contact Karla via Facebook Messenger with any questions. \nThis is an official OKCC trip: A whitewater helmet\, pfd\, float bags\, whistle\, proper footwear and immersion gear\, as well as a signed OKCC waiver are required to participate. \n  \n 
URL:https://www.okcc.org/event/official-december-okcc-class-ii-progression-paddle/
LOCATION:Sandy River
CATEGORIES:Class II Club Paddle,Club Trip
ATTACH;FMTTYPE=image/png:https://www.okcc.org/wp-content/uploads/2022/01/Class2Trip.png
ORGANIZER;CN="Oregon Kayak & Canoe Club":MAILTO:okccinfo@gmail.com
END:VEVENT
BEGIN:VEVENT
DTSTART;TZID=America/Los_Angeles:20221112T100000
DTEND;TZID=America/Los_Angeles:20221112T160000
DTSTAMP:20260421T015733
CREATED:20221110T035834Z
LAST-MODIFIED:20230225T074354Z
UID:5890-1668247200-1668268800@www.okcc.org
SUMMARY:November Official Class II Paddle-Clackamas R.
DESCRIPTION:PLEASE NOTE THAT THE RUN HAS CHANGED TO THE CLACKAMAS DUE TO DROPPING WATER LEVELS ON THE WASHOUGAL. \nMeet time: 10 am at Carver Park\, Estacada\, OR \nRun: Lower Clackamas River\, Barton Park to Carver Park \nTrip Leader: Karla Bergstrom\, contact Karla via Facebook Messenger if you would like to join the trip or if you have any questions. \nThis is an official club trip: Signed waiver\, properly fitted whitewater helmet\, PFD\, float bags\, throw bag\, whistle and appropriate immersion gear/footwear are required.
URL:https://www.okcc.org/event/okcc-official-class-ii-paddle/
LOCATION:WA
CATEGORIES:Class II Club Paddle,Club Trip
ATTACH;FMTTYPE=image/png:https://www.okcc.org/wp-content/uploads/2022/01/Class2Trip.png
ORGANIZER;CN="Oregon Kayak & Canoe Club":MAILTO:okccinfo@gmail.com
END:VEVENT
BEGIN:VEVENT
DTSTART;TZID=America/Los_Angeles:20221022T100000
DTEND;TZID=America/Los_Angeles:20221022T170000
DTSTAMP:20260421T015733
CREATED:20220930T195044Z
LAST-MODIFIED:20230225T074424Z
UID:5449-1666432800-1666458000@www.okcc.org
SUMMARY:October Class II Paddle
DESCRIPTION:Hello friends. The OKCC class II official paddle will be happening October 22nd.\nIt will be Halloween themed.\nPick out your kayak decorations and customs for fun and max merriment (water safe choices\, please).\nRiver: running Lower White Salmon\nMeet at Northwestern Park. 10am. Remember there's a $2 bridge toll each way at Hood River. \nThe October Class II trip\nRun: Lower White Salmon\nTrip Leader: Karla Bergstrom\nPlease contact Karla by facebook messenger if you would like to join or have questions. \nThis is an official OKCC trip. A signed waiver\, pfd\, helmet\, whistle\, throw bag\, float bags and appropriate immersion gear are required. The water is COLD.
URL:https://www.okcc.org/event/october-class-ii-paddle/
LOCATION:White Salmon River (LWS)
CATEGORIES:Class II Club Paddle,Club Trip
ATTACH;FMTTYPE=image/png:https://www.okcc.org/wp-content/uploads/2022/01/Class2Trip.png
ORGANIZER;CN="Oregon Kayak & Canoe Club":MAILTO:okccinfo@gmail.com
END:VEVENT
BEGIN:VEVENT
DTSTART;TZID=America/Los_Angeles:20220806T100000
DTEND;TZID=America/Los_Angeles:20220806T170000
DTSTAMP:20260421T015733
CREATED:20220625T160043Z
LAST-MODIFIED:20230225T074506Z
UID:5138-1659780000-1659805200@www.okcc.org
SUMMARY:August Class II Paddle - River TBD
DESCRIPTION:The  August OKCC Class II Paddle -River TBD  \nTrip Leader: Karla Bergstrom -Please make sure to contact Karla if you wish to join the trip or have any questions. Using FB messenger is easiest\, or you can email OKCC info@gmail.com to be put in touch with her. \nWhen: August 6th\, 2022 \nTime: meet at 10 am \nOptions currently under consideration: Icehouse to Turkey Hole on the Klickitat or Confidence on the Upper Clackamas (Bob's Hole to Memaloose). \nThis is an official OKCC club trip. A current waiver\, properly fitted whitewater pfd & helmet\, float bags\, whistle\, throw bag\, and appropriate footwear & immersion gear are required.
URL:https://www.okcc.org/event/august-class-ii-paddle-river-tbd/
LOCATION:WA
CATEGORIES:Class II Club Paddle,Club Trip
ATTACH;FMTTYPE=image/png:https://www.okcc.org/wp-content/uploads/2022/01/Class2Trip.png
END:VEVENT
BEGIN:VEVENT
DTSTART;TZID=America/Los_Angeles:20220723T100000
DTEND;TZID=America/Los_Angeles:20220723T180000
DTSTAMP:20260421T015733
CREATED:20220708T140445Z
LAST-MODIFIED:20230225T074521Z
UID:5143-1658570400-1658599200@www.okcc.org
SUMMARY:The Annual OKCC BBQ & Paddle!
DESCRIPTION:It's time for the annual OKCC BBQ! (and paddle of course)! \n•When/Where: the BBQ will be held at around 4 pm Saturday\, July 23rd at Northwestern Park in Husum\, WA (you do not have to paddle that day to join the BBQ festivities). \n•The runs: We will have two official trips running before the BBQ: a MWS (class III trip) group meeting at the park around 10 am\, and a LWS (class II trip) group meeting at the park around 11 am. Trip Leaders TBD\, stand by for further info later in the week. \n•Once the paddlers finish up\, we'll all gather at the park for some tasty burgers and hotdogs with all the fixin's provided by the club. Bring your own sides and tasty beverages to round out the fare! \n☆If you are paddling: these are official club trips. A signed waiver\, properly fitted whitewater helmet & pfd\, whistle\, float bags\, appropriate footwear & immersion gear and a throw bag are required to participate.
URL:https://www.okcc.org/event/the-annual-okcc-bbq-paddle/
LOCATION:Northwestern Park\, Husum WA\, Husum\, WA
CATEGORIES:Class II Club Paddle,Class III Club Paddle,Club Happening,Club Trip
ATTACH;FMTTYPE=image/jpeg:https://www.okcc.org/wp-content/uploads/2022/01/20220107_113512-scaled-e1669684095826.jpg
END:VEVENT
BEGIN:VEVENT
DTSTART;TZID=America/Los_Angeles:20220709T100000
DTEND;TZID=America/Los_Angeles:20220709T170000
DTSTAMP:20260421T015733
CREATED:20220625T155245Z
LAST-MODIFIED:20230225T074539Z
UID:5133-1657360800-1657386000@www.okcc.org
SUMMARY:July Class II Paddle River TBD
DESCRIPTION:The July OKCC Class II Paddle -River TBD  \nTrip Leader: Karla Bergstrom -Please make sure to contact Karla if you wish to join the trip or have any questions. Using FB messenger is easiest\, or you can email OKCC info@gmail.com to be put in touch with her. \nWhen: July 9th\, 2022 \nTime: meet at 10 am \nOptions currently under consideration: Confidence on the Upper Clackamas (Bob's Hole to Memaloose)\, Dodge to Oxbow on the Sandy\, or Icehouse to Turkey Hole on the Klickitat. \nThis is an official OKCC club trip. A current waiver\, properly fitted whitewater pfd & helmet\, float bags\, whistle\, throw bag\, and appropriate footwear & immersion gear are required.
URL:https://www.okcc.org/event/july-class-ii-paddle-river-tbd/
LOCATION:WA
CATEGORIES:Class II Club Paddle,Club Trip
ATTACH;FMTTYPE=image/png:https://www.okcc.org/wp-content/uploads/2022/01/Class2Trip.png
END:VEVENT
BEGIN:VEVENT
DTSTART;TZID=America/Los_Angeles:20220409T100000
DTEND;TZID=America/Los_Angeles:20220409T153000
DTSTAMP:20260421T015733
CREATED:20220228T030546Z
LAST-MODIFIED:20220409T014926Z
UID:4549-1649498400-1649518200@www.okcc.org
SUMMARY:April Class II Trip Lower Clackamas River
DESCRIPTION:The April Class II Club Trip & Skill Builder \n\nLower Clackamas River- Feldheimer Launch to Barton Park\nMeet at Barton County Park at 10 am (there us a $6 parking fee)\nTrip Leader: Ernest Ryan\n\nAs with all official club trips\, a properly fitted whitewater helmet & pfd\, at least 2 float bags\, appropriate immersion gear and footwear\,  whistle\, and a signed waiver are required to participate. Please contact the trip leader with any questions about trip requirements or necessary skill level. \n 
URL:https://www.okcc.org/event/april-class-ii-trip/
LOCATION:Clackamas River\, Oregon
CATEGORIES:Class II Club Paddle,Club Trip
ATTACH;FMTTYPE=image/png:https://www.okcc.org/wp-content/uploads/2022/01/Class2Trip.png
ORGANIZER;CN="Oregon Kayak & Canoe Club":MAILTO:okccinfo@gmail.com
END:VEVENT
BEGIN:VEVENT
DTSTART;TZID=America/Los_Angeles:20220305T100000
DTEND;TZID=America/Los_Angeles:20220305T160000
DTSTAMP:20260421T015733
CREATED:20220217T015321Z
LAST-MODIFIED:20230225T074710Z
UID:3950-1646474400-1646496000@www.okcc.org
SUMMARY:March Class II Trip
DESCRIPTION:The March Class II Trip - River TBD \nTrip Leader: Karla Bergstrom \nMeet time: 10 am \nAs with all official OKCC trips\, properly fitted helmet & PFD\, float bags\, appropriate immersion gear\, whistle and a signed waiver are required to participate. \nPlease wear a mask while shuttling with vehicle windows cracked\, regardless of vaccination status.
URL:https://www.okcc.org/event/march-class-ii-trip/
LOCATION:River TBD\, Oregon
CATEGORIES:Class II Club Paddle,Club Trip
ATTACH;FMTTYPE=image/png:https://www.okcc.org/wp-content/uploads/2022/01/Class2Trip.png
ORGANIZER;CN="Oregon Kayak & Canoe Club":MAILTO:okccinfo@gmail.com
END:VEVENT
END:VCALENDAR