BEGIN:VCALENDAR
VERSION:2.0
PRODID:-//OKCC - ECPv6.15.20//NONSGML v1.0//EN
CALSCALE:GREGORIAN
METHOD:PUBLISH
X-ORIGINAL-URL:https://www.okcc.org
X-WR-CALDESC:Events for OKCC
REFRESH-INTERVAL;VALUE=DURATION:PT1H
X-Robots-Tag:noindex
X-PUBLISHED-TTL:PT1H
BEGIN:VTIMEZONE
TZID:America/Los_Angeles
BEGIN:DAYLIGHT
TZOFFSETFROM:-0800
TZOFFSETTO:-0700
TZNAME:PDT
DTSTART:20250309T100000
END:DAYLIGHT
BEGIN:STANDARD
TZOFFSETFROM:-0700
TZOFFSETTO:-0800
TZNAME:PST
DTSTART:20251102T090000
END:STANDARD
BEGIN:DAYLIGHT
TZOFFSETFROM:-0800
TZOFFSETTO:-0700
TZNAME:PDT
DTSTART:20260308T100000
END:DAYLIGHT
BEGIN:STANDARD
TZOFFSETFROM:-0700
TZOFFSETTO:-0800
TZNAME:PST
DTSTART:20261101T090000
END:STANDARD
BEGIN:DAYLIGHT
TZOFFSETFROM:-0800
TZOFFSETTO:-0700
TZNAME:PDT
DTSTART:20270314T100000
END:DAYLIGHT
BEGIN:STANDARD
TZOFFSETFROM:-0700
TZOFFSETTO:-0800
TZNAME:PST
DTSTART:20271107T090000
END:STANDARD
END:VTIMEZONE
BEGIN:VEVENT
DTSTART;TZID=America/Los_Angeles:20260322T090000
DTEND;TZID=America/Los_Angeles:20260322T170000
DTSTAMP:20260425T075808
CREATED:20260316T040419Z
LAST-MODIFIED:20260321T035713Z
UID:12956-1774170000-1774198800@www.okcc.org
SUMMARY:Class lll (3) Paddle
DESCRIPTION:Host: Vanessa Perez please RSVP to attend. Email OKCCinfo@gmail.com or contact her directly. \nRiver: TBD Depending on the weather; we will determine on Friday night the best option for the team. \nMeet time: TBD \nThis is an official paddle. WAIVER REQUIRED\, float bags required for hard shell kayaks. \nWW PFD\, Helmet\, whistle\, immersion wear (no cotton)\, proper foot attire required to attend. \nAbility to self-rescue is strongly encouraged.
URL:https://www.okcc.org/event/class-lll-3-paddle/
LOCATION:River TBD\, Oregon
CATEGORIES:Class III Club Paddle,Club Trip
ORGANIZER;CN="Oregon Kayak & Canoe Club":MAILTO:okccinfo@gmail.com
END:VEVENT
BEGIN:VEVENT
DTSTART;TZID=America/Los_Angeles:20260426T100000
DTEND;TZID=America/Los_Angeles:20260426T160000
DTSTAMP:20260425T075808
CREATED:20260424T194931Z
LAST-MODIFIED:20260424T194931Z
UID:13000-1777197600-1777219200@www.okcc.org
SUMMARY:Class III (3) Paddle
DESCRIPTION:Class 3 Offical Club Trip Hosted by Vanessa Perez \nStart Time TBD \nRiver TBD  Will be determined Friday night. \nMust have a waiver to join. Must have WW vessel\, WW PFD\, WW helmet\, appropriate footwear and immersion wear. Must have float bags and a whistle. \nReach out to Vanessa to join. See posting on OKCC Facebook.
URL:https://www.okcc.org/event/class-iii-3-paddle/
LOCATION:River TBD\, Oregon
CATEGORIES:Class III Club Paddle
END:VEVENT
BEGIN:VEVENT
DTSTART;TZID=America/Los_Angeles:20260426T100000
DTEND;TZID=America/Los_Angeles:20260426T160000
DTSTAMP:20260425T075808
CREATED:20260424T195427Z
LAST-MODIFIED:20260424T202115Z
UID:13002-1777197600-1777219200@www.okcc.org
SUMMARY:Class II Skill Builder Paddle
DESCRIPTION:Class II Skill Builder Paddle hosted by Karla Bergstrom - Waivers are required! \nApril 26th \nBarton to Carver section on the Clackamas River.\nMeet at Carver Park parking lot at 10 AM. \nThis is a club paddle; please reach out to Karla to attend\, or for more information. \nAll required: PFD\, WW immersion gear\, WW vessel\, Whistle\, Float bags. \nRemember to purchase your Oregon water access pass.
URL:https://www.okcc.org/event/class-ii-skill-builder-paddle/
LOCATION:Carver Boat Ramp\, 150 Beavercreek Road\, Oregon City\, OR\, 97045
CATEGORIES:Class II Club Paddle
ORGANIZER;CN="Oregon Kayak & Canoe Club":MAILTO:okccinfo@gmail.com
END:VEVENT
END:VCALENDAR