BEGIN:VCALENDAR
VERSION:2.0
PRODID:-//OKCC - ECPv6.15.18//NONSGML v1.0//EN
CALSCALE:GREGORIAN
METHOD:PUBLISH
X-WR-CALNAME:OKCC
X-ORIGINAL-URL:https://www.okcc.org
X-WR-CALDESC:Events for OKCC
REFRESH-INTERVAL;VALUE=DURATION:PT1H
X-Robots-Tag:noindex
X-PUBLISHED-TTL:PT1H
BEGIN:VTIMEZONE
TZID:America/Los_Angeles
BEGIN:DAYLIGHT
TZOFFSETFROM:-0800
TZOFFSETTO:-0700
TZNAME:PDT
DTSTART:20220313T100000
END:DAYLIGHT
BEGIN:STANDARD
TZOFFSETFROM:-0700
TZOFFSETTO:-0800
TZNAME:PST
DTSTART:20221106T090000
END:STANDARD
BEGIN:DAYLIGHT
TZOFFSETFROM:-0800
TZOFFSETTO:-0700
TZNAME:PDT
DTSTART:20230312T100000
END:DAYLIGHT
BEGIN:STANDARD
TZOFFSETFROM:-0700
TZOFFSETTO:-0800
TZNAME:PST
DTSTART:20231105T090000
END:STANDARD
BEGIN:DAYLIGHT
TZOFFSETFROM:-0800
TZOFFSETTO:-0700
TZNAME:PDT
DTSTART:20240310T100000
END:DAYLIGHT
BEGIN:STANDARD
TZOFFSETFROM:-0700
TZOFFSETTO:-0800
TZNAME:PST
DTSTART:20241103T090000
END:STANDARD
END:VTIMEZONE
BEGIN:VEVENT
DTSTART;TZID=America/Los_Angeles:20230406T193000
DTEND;TZID=America/Los_Angeles:20230406T210000
DTSTAMP:20260422T102023
CREATED:20221128T030229Z
LAST-MODIFIED:20230407T011512Z
UID:6100-1680809400-1680814800@www.okcc.org
SUMMARY:Thursday Pool Session-4/6/23
DESCRIPTION:Come get your roll on at the Clackamas Aquatic Park! \nCheck-in starts at 7:00 pm\, boats can go in the water at 7:30 pm. (Please use the side entrance\, not the main doors). \nTickets for OKCC members are $10/session\, non-members pay $25. Entry is limited to 25\, so get your ticket while the gettin's good! \nWaivers\, helmets and clean boats are required to enter the pool. A hose will be provided\, waivers can be signed at check-in\, but don't forget that helmet!
URL:https://www.okcc.org/event/thursday-pool-session-12/
LOCATION:N. Clackamas Aquatic Park\, 7300 SE Harmony Rd\, Milwaukie\, OR\, 97222
CATEGORIES:N. Clackamas Pool Session,Pool Session
ATTACH;FMTTYPE=image/png:https://www.okcc.org/wp-content/uploads/2022/02/ThursdayPool.png
ORGANIZER;CN="OKCC Pool Coordinator":MAILTO:okcc.poolcoordinator@gmail.com
END:VEVENT
BEGIN:VEVENT
DTSTART;TZID=America/Los_Angeles:20230412T193000
DTEND;TZID=America/Los_Angeles:20230412T210000
DTSTAMP:20260422T102023
CREATED:20221128T030520Z
LAST-MODIFIED:20230406T191707Z
UID:6104-1681327800-1681333200@www.okcc.org
SUMMARY:Wednesday Pool Members Only Session-4/12/23
DESCRIPTION:Come get your roll on at the Clackamas Aquatic Park  at a special members-only session! \nCheck-in starts at 7:00 pm\, boats can go in the water at 7:30 pm. (Please use the side entrance\, not the main doors). \nTickets are $10/session. \nWaivers\, helmets and clean boats are required to enter the pool. A hose will be provided\, waivers can be signed at check-in\, but don't forget that helmet!
URL:https://www.okcc.org/event/wednesday-pool-session-13/
LOCATION:N. Clackamas Aquatic Park\, 7300 SE Harmony Rd\, Milwaukie\, OR\, 97222
CATEGORIES:N. Clackamas Pool Session,Pool Session
ATTACH;FMTTYPE=image/png:https://www.okcc.org/wp-content/uploads/2022/02/SpecialSessionPool.png
ORGANIZER;CN="OKCC Pool Coordinator":MAILTO:okcc.poolcoordinator@gmail.com
END:VEVENT
BEGIN:VEVENT
DTSTART;TZID=America/Los_Angeles:20230420T193000
DTEND;TZID=America/Los_Angeles:20230420T210000
DTSTAMP:20260422T102023
CREATED:20221128T030904Z
LAST-MODIFIED:20230203T055702Z
UID:6108-1682019000-1682024400@www.okcc.org
SUMMARY:Thursday Pool Session-4/20/23
DESCRIPTION:Come get your roll on at the Clackamas Aquatic Park! \nCheck-in starts at 7:00 pm\, boats can go in the water at 7:30 pm. (Please use the side entrance\, not the main doors). \nTickets for OKCC members are $10/session\, non-members pay $25. Entry is limited to 25\, so get your ticket while the gettin's good! \nWaivers\, helmets and clean boats are required to enter the pool. A hose will be provided\, waivers can be signed at check-in\, but don't forget that helmet!
URL:https://www.okcc.org/event/thursday-pool-session-13/
LOCATION:N. Clackamas Aquatic Park\, 7300 SE Harmony Rd\, Milwaukie\, OR\, 97222
CATEGORIES:N. Clackamas Pool Session,Pool Session
ATTACH;FMTTYPE=image/png:https://www.okcc.org/wp-content/uploads/2022/02/ThursdayPool.png
ORGANIZER;CN="OKCC Pool Coordinator":MAILTO:okcc.poolcoordinator@gmail.com
END:VEVENT
BEGIN:VEVENT
DTSTART;TZID=America/Los_Angeles:20230426T193000
DTEND;TZID=America/Los_Angeles:20230426T210000
DTSTAMP:20260422T102023
CREATED:20221128T031147Z
LAST-MODIFIED:20230424T214652Z
UID:6112-1682537400-1682542800@www.okcc.org
SUMMARY:Wednesday Pool Session-4/26/23
DESCRIPTION:Come get your roll on at the Clackamas Aquatic Park! \nCheck-in starts at 7:00 pm\, boats can go in the water at 7:30 pm. (Please use the side entrance\, not the main doors). \nTickets for OKCC members are $10/session\, non-members pay $25. Entry is limited to 25\, so get your ticket while the gettin's good! \nWaivers\, helmets and clean boats are required to enter the pool. A hose will be provided\, waivers can be signed at check-in\, but don't forget that helmet!
URL:https://www.okcc.org/event/wednesday-pool-session-14/
LOCATION:N. Clackamas Aquatic Park\, 7300 SE Harmony Rd\, Milwaukie\, OR\, 97222
CATEGORIES:N. Clackamas Pool Session,Pool Session
ATTACH;FMTTYPE=image/png:https://www.okcc.org/wp-content/uploads/2022/03/WednesdayPool.png
ORGANIZER;CN="OKCC Pool Coordinator":MAILTO:okcc.poolcoordinator@gmail.com
END:VEVENT
BEGIN:VEVENT
DTSTART;TZID=America/Los_Angeles:20230430T100000
DTEND;TZID=America/Los_Angeles:20230430T160000
DTSTAMP:20260422T102023
CREATED:20230424T030308Z
LAST-MODIFIED:20230430T151841Z
UID:8502-1682848800-1682870400@www.okcc.org
SUMMARY:April Class III Trip
DESCRIPTION:April Clas III trip-Washougal River\, MP7 down \nUpdate: Trip had to be moved to the Washougal due to high water on the Clack.\nMeet at 10:00 am Hathaway Park \nTrip Leader: Dale Davidson. Please contact Dale via Facebook Messenger if you would like to join or have questions about the trip. \nAs with all OKCC trips\, a signed waiver\, whitewater helmet & pfd\, whistle\, float bags\, and proper footwear/immersion gear are required.
URL:https://www.okcc.org/event/april-class-iii-trip-2/
LOCATION:River TBD\, Oregon
CATEGORIES:Class III Club Paddle,Club Trip
ATTACH;FMTTYPE=image/png:https://www.okcc.org/wp-content/uploads/2022/01/Class3Trip.png
ORGANIZER;CN="Oregon Kayak & Canoe Club":MAILTO:okccinfo@gmail.com
END:VEVENT
END:VCALENDAR