BEGIN:VCALENDAR
VERSION:2.0
PRODID:-//OKCC - ECPv6.15.18//NONSGML v1.0//EN
CALSCALE:GREGORIAN
METHOD:PUBLISH
X-WR-CALNAME:OKCC
X-ORIGINAL-URL:https://www.okcc.org
X-WR-CALDESC:Events for OKCC
REFRESH-INTERVAL;VALUE=DURATION:PT1H
X-Robots-Tag:noindex
X-PUBLISHED-TTL:PT1H
BEGIN:VTIMEZONE
TZID:America/Los_Angeles
BEGIN:DAYLIGHT
TZOFFSETFROM:-0800
TZOFFSETTO:-0700
TZNAME:PDT
DTSTART:20220313T100000
END:DAYLIGHT
BEGIN:STANDARD
TZOFFSETFROM:-0700
TZOFFSETTO:-0800
TZNAME:PST
DTSTART:20221106T090000
END:STANDARD
BEGIN:DAYLIGHT
TZOFFSETFROM:-0800
TZOFFSETTO:-0700
TZNAME:PDT
DTSTART:20230312T100000
END:DAYLIGHT
BEGIN:STANDARD
TZOFFSETFROM:-0700
TZOFFSETTO:-0800
TZNAME:PST
DTSTART:20231105T090000
END:STANDARD
BEGIN:DAYLIGHT
TZOFFSETFROM:-0800
TZOFFSETTO:-0700
TZNAME:PDT
DTSTART:20240310T100000
END:DAYLIGHT
BEGIN:STANDARD
TZOFFSETFROM:-0700
TZOFFSETTO:-0800
TZNAME:PST
DTSTART:20241103T090000
END:STANDARD
END:VTIMEZONE
BEGIN:VEVENT
DTSTART;TZID=America/Los_Angeles:20230707T180000
DTEND;TZID=America/Los_Angeles:20230707T200000
DTSTAMP:20260424T075720
CREATED:20230523T184541Z
LAST-MODIFIED:20230529T183759Z
UID:8645-1688752800-1688760000@www.okcc.org
SUMMARY:2023 Summer Kayak Polo Practice on the Willamette
DESCRIPTION:Summer OUTDOOR kayak polo is ON! We play most weeks on Friday afternoons - in June that will switch to alternating Thursday / Friday afternoons. \nStarting in June: 6PM - 8PM @Tryon Cove Park in Lake Oswego. If you are on the other side of the river\, feel free to park at Rivervilla Park in Oak Grove and paddle across to Tryon. \nTryon Cove Park - 13990 Stampher Rd\, Lake Oswego\nRivervilla Park - 925 SE Courtney Rd\, Milwaukie \nEveryone must have a current waiver: Click on the 'Sign a Waiver' button at the bottom of the screen or go to https://waiver.smartwaiver.com/v/okcc \nRegulars should have a current annual membership to the Oregon Kayak & Canoe Club.  https://www.okcc.org/membership/\nCheck out our website for more info on gear\, rules\, and see how much FUN kayak polo can be!\nhttps://www.portlandkayakpolo.com/ \nFor questions\, e-mail play@portlandkayakpolo.com and we’ll get you started!
URL:https://www.okcc.org/event/2023-summer-kayak-polo-practice-on-the-willamette-copy-copy/
LOCATION:Tryon Cove Park (Willamette River)\, 13990 Stampher Road\, Lake Oswego\, Oregon\, 97034
CATEGORIES:Kayak Polo Practice - OUTDOORS
ORGANIZER;CN="Kayak Polo Organizer (PDXKP)":MAILTO:play@portlandkayakpolo.com
END:VEVENT
BEGIN:VEVENT
DTSTART;VALUE=DATE:20230710
DTEND;VALUE=DATE:20230715
DTSTAMP:20260424T075720
CREATED:20230523T194021Z
LAST-MODIFIED:20230713T233855Z
UID:8686-1688947200-1689379199@www.okcc.org
SUMMARY:2023 Canoe Polo Training Camp (BC Canada)
DESCRIPTION:-- CANCELED -- \n2023 Canoe Polo Training Camp: July 10-14 at Stump Lake\, BC. \n\nThat's just south of Kamloops\, on highway 5a. \nTournament games will start early Saturday\, and wrap up by noon on Sunday. Camping and Saturday dinner is included in your registration fee ($40/person.)\nAn open training camp precedes the tournament\, and starts Monday. The camp is geared to youth and beginner/intermediate players\, but is open to all. ($25/day/person. Includes food and camping.)\nSuggested accommodation is camping on site\, but if you require a hotel\, look to Merritt or Kamloops which are both less than an hour away.\nDetails are pending\, but we wanted to get this date on your radar so you can plan accordingly.\nSend questions to Keegan at canoepolo@envirosmith.ca or ask on this page \nhttps://www.facebook.com/events/274926588309089/?acontext=%7B%22source%22%3A%2229%22%2C%22ref_notif_type%22%3A%22plan_user_invited%22%2C%22action_history%22%3A%22null%22%7D&notif_id=1682479204495174&notif_t=plan_user_invited&ref=notif \n\nPortland Kayak Polo Club info: Check out our website for more info on gear\, rules\, and see how much FUN kayak polo can be!\nhttps://www.portlandkayakpolo.com/ \nFor questions\, e-mail play@portlandkayakpolo.com and we’ll get you started!
URL:https://www.okcc.org/event/2023-canoe-polo-open-nationals-and-open-invitational-bc-canada-copy/
LOCATION:Stump Lake\, BC\, Stump Lake\, BC\, V0E 2R0\, Canada
CATEGORIES:Kayak Polo Practice - OUTDOORS
ORGANIZER;CN="Kayak Polo Organizer (PDXKP)":MAILTO:play@portlandkayakpolo.com
END:VEVENT
BEGIN:VEVENT
DTSTART;TZID=America/Los_Angeles:20230714T180000
DTEND;TZID=America/Los_Angeles:20230714T200000
DTSTAMP:20260424T075720
CREATED:20230713T234239Z
LAST-MODIFIED:20230713T234239Z
UID:8823-1689357600-1689364800@www.okcc.org
SUMMARY:2023 Summer Kayak Polo Practice on the Willamette
DESCRIPTION:Summer OUTDOOR kayak polo is ON! We play most weeks on Friday afternoons - in June that will switch to alternating Thursday / Friday afternoons. \nStarting in June: 6PM - 8PM @Tryon Cove Park in Lake Oswego. If you are on the other side of the river\, feel free to park at Rivervilla Park in Oak Grove and paddle across to Tryon. \nTryon Cove Park - 13990 Stampher Rd\, Lake Oswego\nRivervilla Park - 925 SE Courtney Rd\, Milwaukie \nEveryone must have a current waiver: Click on the 'Sign a Waiver' button at the bottom of the screen or go to https://waiver.smartwaiver.com/v/okcc \nRegulars should have a current annual membership to the Oregon Kayak & Canoe Club.  https://www.okcc.org/membership/\nCheck out our website for more info on gear\, rules\, and see how much FUN kayak polo can be!\nhttps://www.portlandkayakpolo.com/ \nFor questions\, e-mail play@portlandkayakpolo.com and we’ll get you started!
URL:https://www.okcc.org/event/2023-summer-kayak-polo-practice-on-the-willamette-20/
LOCATION:Tryon Cove Park (Willamette River)\, 13990 Stampher Road\, Lake Oswego\, Oregon\, 97034
CATEGORIES:Kayak Polo Practice - OUTDOORS
ORGANIZER;CN="Kayak Polo Organizer (PDXKP)":MAILTO:play@portlandkayakpolo.com
END:VEVENT
BEGIN:VEVENT
DTSTART;TZID=America/Los_Angeles:20230715T080000
DTEND;TZID=America/Los_Angeles:20230716T120000
DTSTAMP:20260424T075720
CREATED:20230523T194152Z
LAST-MODIFIED:20230713T233759Z
UID:8660-1689408000-1689508800@www.okcc.org
SUMMARY:2023 Canoe Polo Canadian Nationals and Open Invitational (BC Canada)
DESCRIPTION:-- CANCELED -- 2023 Canoe Polo Nationals: July 15-16 at Stump Lake\, BC. \nThat's just south of Kamloops\, on highway 5a. \nGames will start early Saturday\, and wrap up by noon on Sunday. Camping and Saturday dinner is included in your registration fee ($40/person.)\nAn open training camp precedes the tournament\, and starts Monday. The camp is geared to youth and beginner/intermediate players\, but is open to all. ($25/day/person. Includes food and camping.)\nSuggested accommodation is camping on site\, but if you require a hotel\, look to Merritt or Kamloops which are both less than an hour away.\nDetails are pending\, but we wanted to get this date on your radar so you can plan accordingly.\nSend questions to Keegan at canoepolo@envirosmith.ca or ask on this page \nhttps://www.facebook.com/events/274926588309089/?acontext=%7B%22source%22%3A%2229%22%2C%22ref_notif_type%22%3A%22plan_user_invited%22%2C%22action_history%22%3A%22null%22%7D&notif_id=1682479204495174&notif_t=plan_user_invited&ref=notif \n\nPortland Kayak Polo Club info: Check out our website for more info on gear\, rules\, and see how much FUN kayak polo can be!\nhttps://www.portlandkayakpolo.com/ \nFor questions\, e-mail play@portlandkayakpolo.com and we’ll get you started!
URL:https://www.okcc.org/event/2023-canoe-polo-open-nationals-and-open-invitational-bc-canada/
LOCATION:Stump Lake\, BC\, Stump Lake\, BC\, V0E 2R0\, Canada
CATEGORIES:Kayak Polo
ORGANIZER;CN="Kayak Polo Organizer (PDXKP)":MAILTO:play@portlandkayakpolo.com
END:VEVENT
BEGIN:VEVENT
DTSTART;TZID=America/Los_Angeles:20230715T110000
DTEND;TZID=America/Los_Angeles:20230715T170000
DTSTAMP:20260424T075720
CREATED:20230711T022807Z
LAST-MODIFIED:20230711T022807Z
UID:8814-1689418800-1689440400@www.okcc.org
SUMMARY:OKCC July Class II Trip - N. Santiam
DESCRIPTION:•Where: N. Santiam River\, OR - PackSaddle to Mill City \n•When: Saturday\, July 15th. Meet at the Mill City Park parking lot (across from eNRG kayaking) at 11 am. \n•Trip Leader: Karla Bergstrom. Please contact Karla via Facebook Messenger or through the OKCC Facebook Group Event post if you would like to join or have questions regarding necessary skills/difficulty/etc. \n•To participate you must have a current signed OKCC waiver\, a properly fitted whitewater helmet and PFD\, at least 2 float bags\, a whistle and appropriate immersion gear & footwear. \n  \n 
URL:https://www.okcc.org/event/okcc-july-class-ii-trip-n-santiam/
LOCATION:N. Santiam River
CATEGORIES:Class II Club Paddle,Club Trip
ATTACH;FMTTYPE=image/png:https://www.okcc.org/wp-content/uploads/2022/01/Class2Trip.png
ORGANIZER;CN="Oregon Kayak & Canoe Club":MAILTO:okccinfo@gmail.com
END:VEVENT
BEGIN:VEVENT
DTSTART;TZID=America/Los_Angeles:20230721T180000
DTEND;TZID=America/Los_Angeles:20230721T200000
DTSTAMP:20260424T075720
CREATED:20230523T185423Z
LAST-MODIFIED:20230529T183850Z
UID:8652-1689962400-1689969600@www.okcc.org
SUMMARY:2023 Summer Kayak Polo Practice on the Willamette
DESCRIPTION:Summer OUTDOOR kayak polo is ON! We play most weeks on Friday afternoons - in June that will switch to alternating Thursday / Friday afternoons. \nStarting in June: 6PM - 8PM @Tryon Cove Park in Lake Oswego. If you are on the other side of the river\, feel free to park at Rivervilla Park in Oak Grove and paddle across to Tryon. \nTryon Cove Park - 13990 Stampher Rd\, Lake Oswego\nRivervilla Park - 925 SE Courtney Rd\, Milwaukie \nEveryone must have a current waiver: Click on the 'Sign a Waiver' button at the bottom of the screen or go to https://waiver.smartwaiver.com/v/okcc \nRegulars should have a current annual membership to the Oregon Kayak & Canoe Club.  https://www.okcc.org/membership/\nCheck out our website for more info on gear\, rules\, and see how much FUN kayak polo can be!\nhttps://www.portlandkayakpolo.com/ \nFor questions\, e-mail play@portlandkayakpolo.com and we’ll get you started!
URL:https://www.okcc.org/event/2023-summer-kayak-polo-practice-on-the-willamette-6/
LOCATION:Tryon Cove Park (Willamette River)\, 13990 Stampher Road\, Lake Oswego\, Oregon\, 97034
CATEGORIES:Kayak Polo Practice - OUTDOORS
ORGANIZER;CN="Kayak Polo Organizer (PDXKP)":MAILTO:play@portlandkayakpolo.com
END:VEVENT
BEGIN:VEVENT
DTSTART;TZID=America/Los_Angeles:20230722T080000
DTEND;TZID=America/Los_Angeles:20230723T170000
DTSTAMP:20260424T075720
CREATED:20230124T011634Z
LAST-MODIFIED:20230619T223126Z
UID:7285-1690012800-1690131600@www.okcc.org
SUMMARY:OKCC Swiftwater Safety Training Weekend with Lee Baker
DESCRIPTION:New to Whitewater? Out of date on your swiftwater safety training? If you're a current OKCC member\, reserve one of the 18 spots for the 2023 OKCC Swiftwater Safety Training Weekend July 22nd-23rd! \nThis class is an ACA Swiftwater Rescue level 4 course that takes a kayak specific approach to learning the fundamentals of rescue. The course is highly interactive and designed to challenge kayakers of all skill levels\, so beginners and experienced paddlers alike are welcome. Participants will need a hardshell or inflatable kayak for the downriver portions of the course as well as a PFD\, whitewater helmet\, whistle\, appropriate immersion wear & footwear\, throw bag\, and at least 2 float bags (hardshells only) and of course\, a current signed OKCC waiver. \nInstructor: Lee Baker of Gradient River Essentials. Lee is an experienced Level 4 ACA instructor with over 25 years of whitewater experience. \nLocation:  Middle Fork Willamette/Black Canyon Campground \nCost: $125 for current OKCC members. (there will also be an $8/vehicle fee at the campground). \nTopics Covered: Recognition and avoidance of common river hazards\, execution of self-rescue techniques\, and rescue techniques for paddlers in distress. Emphasis is placed on both personal safety and commonly used skills. Fundamental and more advanced techniques for dealing with hazards that carry greater risk for both victim and rescuer\, such as strainers\, rescue vest applications\, entrapments\, and pins will also be practiced. Scenarios will provide an opportunity for participants to practice their skills both individually and within a team/group context. \nPlease note: Campsites will be reserved and paid for by OKCC\, however there will be an $8/vehicle fee that you will be responsible for. The club will also provide coffee and snacks\, but meals and beverages are the responsibility of each participant. We encourage you to bring plenty of extra calories and water for the weekend\, as we will be working hard! \nPlease direct any questions to Emily Hooker at (503) 887-0940 | on Facebook Messenger  or to Chris Massey at (503) 369-2127 | chrisamassey@gmail.com \nMUST HAVE EQUIPEMT: \n\nType 3 PFD designed for whitewater use\nWhitewater helmet\nProtective clothing (drysuit or wetsuit) suitable for extended swimming in cold water and appropriate to the location/time of year\nProtective footwear\nthrow bag\nwhistle\ncurrent signed OKCC waiver (waivers can be found by clicking the blue flag on the lower right hand corner of  any page at https://www.okcc.org )\n\nIdeally Bring*: \n\nType 5 Rescue PFD with a quick release system\n(4) locking carabiners\n(3) pulleys\n(2) prusik loops\n(1) 15+ feet of one inch tubular nylon webbing\n\n*We encourage you to put together your own pin kit\, but if you are lacking any of this equipment\, please let us know in advance. We can likely come up with some so that everyone gets the most out of the class. \nOther Gear/Non-Mandatory:  \n\nRescue PFD with breakaway system/cowtail\nRiver knife\n\n 
URL:https://www.okcc.org/event/okcc-swiftwater-safety-training-weekend-with-lee-baker-2/
LOCATION:Black Canyon Campground\, Middle Fork Willamette River\, Hwy 58\, 8 miles west of Oakridge\, Oakridge\, Oregon\, 97463
CATEGORIES:Class
ATTACH;FMTTYPE=image/png:https://www.okcc.org/wp-content/uploads/2022/06/93fb1f_60118ce8d33e43b1b39bdceb86d77027_mv2.png
ORGANIZER;CN="Oregon Kayak & Canoe Club":MAILTO:okccinfo@gmail.com
END:VEVENT
BEGIN:VEVENT
DTSTART;TZID=America/Los_Angeles:20230728T180000
DTEND;TZID=America/Los_Angeles:20230728T200000
DTSTAMP:20260424T075720
CREATED:20230523T190702Z
LAST-MODIFIED:20230529T190751Z
UID:8658-1690567200-1690574400@www.okcc.org
SUMMARY:2023 Summer Kayak Polo Practice on the Willamette
DESCRIPTION:Summer OUTDOOR kayak polo is ON! We play most weeks on Friday afternoons - in June that will switch to alternating Thursday / Friday afternoons. \nStarting in June\, 6PM-8PM @Tryon Cove Park in Lake Oswego. If you are on the other side of the river\, feel free to park at Rivervilla Park in Oak Grove and paddle across to Tryon. \nTryon Cove Park - 13990 Stampher Rd\, Lake Oswego\nRivervilla Park - 925 SE Courtney Rd\, Milwaukie \nEveryone must have a current waiver: Click on the 'Sign a Waiver' button at the bottom of the screen or go to https://waiver.smartwaiver.com/v/okcc \nRegulars should have a current annual membership to the Oregon Kayak & Canoe Club.  https://www.okcc.org/membership/\nCheck out our website for more info on gear\, rules\, and see how much FUN kayak polo can be!\nhttps://www.portlandkayakpolo.com/ \nFor questions\, e-mail play@portlandkayakpolo.com and we’ll get you started!
URL:https://www.okcc.org/event/2023-summer-kayak-polo-practice-on-the-willamette-7/
LOCATION:Tryon Cove Park (Willamette River)\, 13990 Stampher Road\, Lake Oswego\, Oregon\, 97034
CATEGORIES:Kayak Polo Practice - OUTDOORS
ORGANIZER;CN="Kayak Polo Organizer (PDXKP)":MAILTO:play@portlandkayakpolo.com
END:VEVENT
END:VCALENDAR