BEGIN:VCALENDAR
VERSION:2.0
PRODID:-//OKCC - ECPv6.15.18//NONSGML v1.0//EN
CALSCALE:GREGORIAN
METHOD:PUBLISH
X-WR-CALNAME:OKCC
X-ORIGINAL-URL:https://www.okcc.org
X-WR-CALDESC:Events for OKCC
REFRESH-INTERVAL;VALUE=DURATION:PT1H
X-Robots-Tag:noindex
X-PUBLISHED-TTL:PT1H
BEGIN:VTIMEZONE
TZID:America/Los_Angeles
BEGIN:DAYLIGHT
TZOFFSETFROM:-0800
TZOFFSETTO:-0700
TZNAME:PDT
DTSTART:20220313T100000
END:DAYLIGHT
BEGIN:STANDARD
TZOFFSETFROM:-0700
TZOFFSETTO:-0800
TZNAME:PST
DTSTART:20221106T090000
END:STANDARD
BEGIN:DAYLIGHT
TZOFFSETFROM:-0800
TZOFFSETTO:-0700
TZNAME:PDT
DTSTART:20230312T100000
END:DAYLIGHT
BEGIN:STANDARD
TZOFFSETFROM:-0700
TZOFFSETTO:-0800
TZNAME:PST
DTSTART:20231105T090000
END:STANDARD
BEGIN:DAYLIGHT
TZOFFSETFROM:-0800
TZOFFSETTO:-0700
TZNAME:PDT
DTSTART:20240310T100000
END:DAYLIGHT
BEGIN:STANDARD
TZOFFSETFROM:-0700
TZOFFSETTO:-0800
TZNAME:PST
DTSTART:20241103T090000
END:STANDARD
END:VTIMEZONE
BEGIN:VEVENT
DTSTART;TZID=America/Los_Angeles:20230802T181500
DTEND;TZID=America/Los_Angeles:20230802T201500
DTSTAMP:20260424T010159
CREATED:20230512T035018Z
LAST-MODIFIED:20230512T040104Z
UID:8581-1691000100-1691007300@www.okcc.org
SUMMARY:OKCC CPR\, AED & 1st Aid Course
DESCRIPTION:Our semi-annual course when a Red Cross certified trainer gets you the skills that all your paddling friends want you to have. This takes a little over 2 hours and might save a life or limb! \nWe'll meet at Picnic Area A in the northwest corner of the Park near the playground. \nCost is $30\, less than half what similar classes cost. But it's FREE** to trip leaders! \n** Lead 2 trips in the next year and we'll extend your OKCC membership 12 months.
URL:https://www.okcc.org/event/okcc-cpr-aed-1st-aid-course/
LOCATION:Columbia Park\, Pavillion A\, 4503 N Lombard St\, Portland\, Oregon\, 97203
CATEGORIES:Class
ATTACH;FMTTYPE=image/png:https://www.okcc.org/wp-content/uploads/2023/05/Untitled1242_20210708191538.png
ORGANIZER;CN="Oregon Kayak & Canoe Club":MAILTO:okccinfo@gmail.com
END:VEVENT
BEGIN:VEVENT
DTSTART;TZID=America/Los_Angeles:20230804T180000
DTEND;TZID=America/Los_Angeles:20230804T200000
DTSTAMP:20260424T010159
CREATED:20230523T191256Z
LAST-MODIFIED:20230529T183956Z
UID:8671-1691172000-1691179200@www.okcc.org
SUMMARY:2023 Summer Kayak Polo Practice on the Willamette
DESCRIPTION:Summer OUTDOOR kayak polo is ON! We play most weeks on Friday afternoons - in June that will switch to alternating Thursday / Friday afternoons. \nStarting in June: 6PM - 8PM @Tryon Cove Park in Lake Oswego. If you are on the other side of the river\, feel free to park at Rivervilla Park in Oak Grove and paddle across to Tryon. \nTryon Cove Park - 13990 Stampher Rd\, Lake Oswego\nRivervilla Park - 925 SE Courtney Rd\, Milwaukie \nEveryone must have a current waiver: Click on the 'Sign a Waiver' button at the bottom of the screen or go to https://waiver.smartwaiver.com/v/okcc \nRegulars should have a current annual membership to the Oregon Kayak & Canoe Club.  https://www.okcc.org/membership/\nCheck out our website for more info on gear\, rules\, and see how much FUN kayak polo can be!\nhttps://www.portlandkayakpolo.com/ \nFor questions\, e-mail play@portlandkayakpolo.com and we’ll get you started!
URL:https://www.okcc.org/event/2023-summer-kayak-polo-practice-on-the-willamette-8/
LOCATION:Tryon Cove Park (Willamette River)\, 13990 Stampher Road\, Lake Oswego\, Oregon\, 97034
CATEGORIES:Kayak Polo Practice - OUTDOORS
ORGANIZER;CN="Kayak Polo Organizer (PDXKP)":MAILTO:play@portlandkayakpolo.com
END:VEVENT
BEGIN:VEVENT
DTSTART;TZID=America/Los_Angeles:20230811T180000
DTEND;TZID=America/Los_Angeles:20230811T200000
DTSTAMP:20260424T010159
CREATED:20230523T191327Z
LAST-MODIFIED:20230529T184051Z
UID:8670-1691776800-1691784000@www.okcc.org
SUMMARY:2023 Summer Kayak Polo Practice on the Willamette
DESCRIPTION:Summer OUTDOOR kayak polo is ON! We play most weeks on Friday afternoons - in June that will switch to alternating Thursday / Friday afternoons. \nStarting in June: 6PM - 8PM @Tryon Cove Park in Lake Oswego. If you are on the other side of the river\, feel free to park at Rivervilla Park in Oak Grove and paddle across to Tryon. \nTryon Cove Park - 13990 Stampher Rd\, Lake Oswego\nRivervilla Park - 925 SE Courtney Rd\, Milwaukie \nEveryone must have a current waiver: Click on the 'Sign a Waiver' button at the bottom of the screen or go to https://waiver.smartwaiver.com/v/okcc \nRegulars should have a current annual membership to the Oregon Kayak & Canoe Club.  https://www.okcc.org/membership/\nCheck out our website for more info on gear\, rules\, and see how much FUN kayak polo can be!\nhttps://www.portlandkayakpolo.com/ \nFor questions\, e-mail play@portlandkayakpolo.com and we’ll get you started!
URL:https://www.okcc.org/event/2023-summer-kayak-polo-practice-on-the-willamette-9/
LOCATION:Tryon Cove Park (Willamette River)\, 13990 Stampher Road\, Lake Oswego\, Oregon\, 97034
CATEGORIES:Kayak Polo Practice - OUTDOORS
ORGANIZER;CN="Kayak Polo Organizer (PDXKP)":MAILTO:play@portlandkayakpolo.com
END:VEVENT
BEGIN:VEVENT
DTSTART;TZID=America/Los_Angeles:20230818T180000
DTEND;TZID=America/Los_Angeles:20230818T200000
DTSTAMP:20260424T010159
CREATED:20230523T191453Z
LAST-MODIFIED:20230529T184209Z
UID:8674-1692381600-1692388800@www.okcc.org
SUMMARY:2023 Summer Kayak Polo Practice on the Willamette
DESCRIPTION:Summer OUTDOOR kayak polo is ON! We play most weeks on Friday afternoons - in June that will switch to alternating Thursday / Friday afternoons. \nStarting in June: 6PM - 8PM @Tryon Cove Park in Lake Oswego. If you are on the other side of the river\, feel free to park at Rivervilla Park in Oak Grove and paddle across to Tryon. \nTryon Cove Park - 13990 Stampher Rd\, Lake Oswego\nRivervilla Park - 925 SE Courtney Rd\, Milwaukie \nEveryone must have a current waiver: Click on the 'Sign a Waiver' button at the bottom of the screen or go to https://waiver.smartwaiver.com/v/okcc \nRegulars should have a current annual membership to the Oregon Kayak & Canoe Club.  https://www.okcc.org/membership/\nCheck out our website for more info on gear\, rules\, and see how much FUN kayak polo can be!\nhttps://www.portlandkayakpolo.com/ \nFor questions\, e-mail play@portlandkayakpolo.com and we’ll get you started!
URL:https://www.okcc.org/event/2023-summer-kayak-polo-practice-on-the-willamette-10/
LOCATION:Tryon Cove Park (Willamette River)\, 13990 Stampher Road\, Lake Oswego\, Oregon\, 97034
CATEGORIES:Kayak Polo Practice - OUTDOORS
ORGANIZER;CN="Kayak Polo Organizer (PDXKP)":MAILTO:play@portlandkayakpolo.com
END:VEVENT
BEGIN:VEVENT
DTSTART;TZID=America/Los_Angeles:20230819T103000
DTEND;TZID=America/Los_Angeles:20230819T163000
DTSTAMP:20260424T010159
CREATED:20230819T001840Z
LAST-MODIFIED:20230819T001840Z
UID:8866-1692441000-1692462600@www.okcc.org
SUMMARY:August Class II Trip-N. Santiam
DESCRIPTION:Where: PackSaddle-Mill City\, N. Santiam River \nTrip Leader: Karla Bergstrom (please contact Karla via Facebook Messenger if you have questions or plan on joining the trip) \nMeet Time: 10:30 AM Mill City Park\, Mill City OR \nAs with all club trips\, a helmet\, pfd\, whistle\, float bags\, proper immersion gear\, and a signed wavier are required to participate.
URL:https://www.okcc.org/event/august-class-ii-trip-n-santiam/
LOCATION:N. Santiam River
CATEGORIES:Class II Club Paddle,Club Trip
ATTACH;FMTTYPE=image/png:https://www.okcc.org/wp-content/uploads/2022/01/Class2Trip.png
ORGANIZER;CN="Oregon Kayak & Canoe Club":MAILTO:okccinfo@gmail.com
END:VEVENT
BEGIN:VEVENT
DTSTART;VALUE=DATE:20230826
DTEND;VALUE=DATE:20230828
DTSTAMP:20260424T010159
CREATED:20230523T190019Z
LAST-MODIFIED:20230529T185652Z
UID:8656-1693008000-1693180799@www.okcc.org
SUMMARY:2023 Washougal Wind-up Tournament - Kayak Polo Aug 26-27
DESCRIPTION:We are pleased to announce that Paul & Kate Kuthe have generously offered to host the Washougal Wind-Up Tournament again! It will be at their home on the Washougal River.\nTimes for each day will be posted when the event gets closer.\n\nThere is a cobble beach and quiet full pitch pool.\nLimited camping on-site is available.\n\n\nBring your own polo kit: boat with functional bumpers\, helmet with faceguard\, and a blunt edged paddle.\nGames will be 10-1 and 2-6 on Saturday and 10-2 on Sunday.\n\n\nBring your own food (+cooler & cookware\, if applicable) there are local spots nearby to purchase food.\nPack a camp chair\, sunscreen & beverages. \nCheck out https://www.portlandkayakpolo.com/ for more details!\n  \nEveryone must have a current waiver: Click on the 'Sign a Waiver' button at the bottom of the screen or go to https://waiver.smartwaiver.com/v/okcc \nRegulars should have a current annual membership to the Oregon Kayak & Canoe Club.  https://www.okcc.org/membership/\nCheck out our website for more info on gear\, rules\, and see how much FUN kayak polo can be!\nhttps://www.portlandkayakpolo.com/ \nFor questions\, e-mail play@portlandkayakpolo.com and we’ll get you started!
URL:https://www.okcc.org/event/2023-summer-kayak-polo-practice-on-the-willamette-5/
LOCATION:Washougal Kayak Polo Venue (Kuthe River House)\, 36501 NE Washougal River Rd.\, Washougal\, WA\, 98671\, United States
CATEGORIES:Kayak Polo Practice - OUTDOORS
ORGANIZER;CN="Kayak Polo Organizer (PDXKP)":MAILTO:play@portlandkayakpolo.com
END:VEVENT
BEGIN:VEVENT
DTSTART;TZID=America/Los_Angeles:20230826T130000
DTEND;TZID=America/Los_Angeles:20230826T170000
DTSTAMP:20260424T010159
CREATED:20230819T002941Z
LAST-MODIFIED:20230824T003553Z
UID:8870-1693054800-1693069200@www.okcc.org
SUMMARY:Annual Club Picnic & Safety Practice Day on the Yamhill
DESCRIPTION:It's the annual club Picnic! \nWe're doing something a little different this year and combining a BBQ with a day of safety practice & swimming on calmer waters. So bring your swim suits/towels\, your safety gear\, a chair and plenty of sunscreen & some tasty beverages\, we'll bring the BBQ's and the burgers! \n  \naddress: 15225 SW Delashmutt Ln\, McMinnville OR 97218 \nSee you there!
URL:https://www.okcc.org/event/annual-club-picnic-safety-practice-day-on-the-yamhill/
LOCATION:Yamill Farm\, 15225 SW Delashmutt Ln\, McMinnville\, OR\, 97218
CATEGORIES:Club Happening
ATTACH;FMTTYPE=image/jpeg:https://www.okcc.org/wp-content/uploads/2022/01/Diversify-whitewater-boats-scaled.jpg
END:VEVENT
BEGIN:VEVENT
DTSTART;TZID=America/Los_Angeles:20230827T100000
DTEND;TZID=America/Los_Angeles:20230827T160000
DTSTAMP:20260424T010159
CREATED:20230819T002143Z
LAST-MODIFIED:20230824T001642Z
UID:8868-1693130400-1693152000@www.okcc.org
SUMMARY:August Class III Trip - MWS
DESCRIPTION:Where: Middle White Salmon \nTrip Leader: Roger Sharp - please contact Roger via Facebook Messenger if you have questions or would like to join the trip. \nTime: Meet at Northwestern Park at 10:00 AM Sunday\, August 27th. \nAs with all club trips\, a helmet\, pfd\, whistle\, float bags\, proper immersion gear\, and a signed wavier are required to participate.
URL:https://www.okcc.org/event/august-class-iii-trip-mws/
LOCATION:White Salmon River (MWS)
CATEGORIES:Class III Club Paddle,Club Trip
ATTACH;FMTTYPE=image/png:https://www.okcc.org/wp-content/uploads/2022/01/Class3Trip.png
ORGANIZER;CN="Oregon Kayak & Canoe Club":MAILTO:okccinfo@gmail.com
END:VEVENT
END:VCALENDAR